BEGIN:VCALENDAR
VERSION:2.0
PRODID:-//ChamberMaster//Event Calendar 2.0//EN
METHOD:PUBLISH
X-PUBLISHED-TTL:P3D
REFRESH-INTERVAL:P3D
CALSCALE:GREGORIAN
BEGIN:VEVENT
DTSTART:20230414T230000Z
DTEND:20230415T010000Z
X-MICROSOFT-CDO-ALLDAYEVENT:FALSE
SUMMARY:Great Falls Coffeehouse - Alive n' Pickin'
DESCRIPTION:Alive n' Pickin' will perform a range of country\, folk and bluegrass tunes from Jimmie Rogers\, Hank Williams\, to Steve Goodman\, Guy Clark\, and Townes Van Zandt. Featuring Dave LeBlanc\, John "Hal" Halstead and Larry LeBlanc on a variety of string instruments.
X-ALT-DESC;FMTTYPE=text/html:<span style="font-family:verdana\;">Alive n&#39\; Pickin&#39\; will perform a range of country\, folk and bluegrass tunes from Jimmie Rogers\, Hank Williams\, to Steve Goodman\, Guy Clark\, and Townes Van Zandt. Featuring Dave LeBlanc\, John &quot\;Hal&quot\; Halstead and Larry LeBlanc on a variety of string instruments.</span>
LOCATION:Great Falls Discovery Center Great Hall
UID:e.2182.19525
SEQUENCE:3
DTSTAMP:20260424T231219Z
URL:https://chamber.franklincc.org/events/details/great-falls-coffeehouse-alive-n-pickin-19525
END:VEVENT

END:VCALENDAR
