BEGIN:VCALENDAR
VERSION:2.0
PRODID:-//ChamberMaster//Event Calendar 2.0//EN
METHOD:PUBLISH
X-PUBLISHED-TTL:P3D
REFRESH-INTERVAL:P3D
CALSCALE:GREGORIAN
BEGIN:VEVENT
DTSTART:20231015T180000Z
DTEND:20231015T200000Z
X-MICROSOFT-CDO-ALLDAYEVENT:FALSE
SUMMARY:God Of Carnage
DESCRIPTION:Winner of the 2009 Tony Award for Best Play\, God of Carnage relates an evening in the lives of two couples\, residents of a tony Brooklyn neighborhood\, who meet to discuss a playground incident. Alan and Annette's son hit Michael and Veronica's son in the face with a stick\, resulting in two broken teeth. The four of them agree to discuss the incident civilly\, but\, as the night wears on and drinks are imbibed\, the polite veneer breaks down. The couples initially spar against each other\, but the men gang up on the women and the spouses switch sides as the fighting continues. Reza's play suggests that our civilized trappings do a poor job of hiding our venality and bile. Rated: PG-13 Run Time: 80 minutes
X-ALT-DESC;FMTTYPE=text/html:Winner of the 2009 Tony Award for Best Play\, God of Carnage relates an evening in the lives of two couples\, residents of a tony Brooklyn neighborhood\, who meet to discuss a playground incident. Alan and Annette&rsquo\;s son hit Michael and Veronica&rsquo\;s son in the face with a stick\, resulting in two broken teeth. The four of them agree to discuss the incident civilly\, but\, as the night wears on and drinks are imbibed\, the polite veneer breaks down. The couples initially spar against each other\, but the men gang up on the women and the spouses switch sides as the fighting continues. Reza&rsquo\;s play suggests that our civilized trappings do a poor job of hiding our venality and bile. Rated: PG-13 Run Time: 80 minutes
LOCATION:JaDuke Theater 110 Industrial Blvd Turners Falls MA 01376
UID:e.2182.22185
SEQUENCE:3
DTSTAMP:20260424T235002Z
URL:https://chamber.franklincc.org/events/details/god-of-carnage-22185
END:VEVENT

END:VCALENDAR
