BEGIN:VCALENDAR
VERSION:2.0
PRODID:-//ChamberMaster//Event Calendar 2.0//EN
METHOD:PUBLISH
X-PUBLISHED-TTL:P3D
REFRESH-INTERVAL:P3D
CALSCALE:GREGORIAN
BEGIN:VEVENT
DTSTART:20241205T220000Z
DTEND:20241206T010000Z
X-MICROSOFT-CDO-ALLDAYEVENT:FALSE
SUMMARY:Girls' Night Out
DESCRIPTION:Treat yourself and your girlfriends to some after-hours shopping just before the holidays! SIP- beer and wine available for purchase from Powder Hollow Brewery.\n\n\n\nSHOP- while sampling some of our favorite items.\n\n\n\nSAVE- 30% off full-price items (excludes LEGO \, sale scenter and select in-store promotions). PLUS -- live music from T.J. & The Peepers Duo and raffles happening every 15 minutes! (must be present to win).
X-ALT-DESC;FMTTYPE=text/html:Treat yourself and your girlfriends to some after-hours shopping just before the holidays! SIP- beer and wine available for purchase from Powder Hollow Brewery.<br />\n<br />\nSHOP- while sampling some of our favorite items.<br />\n<br />\nSAVE- 30% off full-price items (excludes LEGO&reg\;\, sale scenter and select in-store promotions). PLUS -- live music from T.J. &amp\; The Peepers Duo and raffles happening every 15 minutes! (must be present to win).&nbsp\;<br />\n&nbsp\;
LOCATION:Yankee Candle Village 25 Greenfield Road\, South Deerfield
UID:e.2182.23965
SEQUENCE:3
DTSTAMP:20260424T031507Z
URL:https://chamber.franklincc.org/events/details/girls-night-out-12-05-2024-23965
END:VEVENT

END:VCALENDAR
