BEGIN:VCALENDAR
VERSION:2.0
PRODID:-//ChamberMaster//Event Calendar 2.0//EN
METHOD:PUBLISH
X-PUBLISHED-TTL:P3D
REFRESH-INTERVAL:P3D
CALSCALE:GREGORIAN
BEGIN:VEVENT
DTSTART:20250810T170000Z
DTEND:20250810T183000Z
X-MICROSOFT-CDO-ALLDAYEVENT:FALSE
SUMMARY:Ghosts in the Attic: A Shelburne Falls Legacy in Letters\,
DESCRIPTION:Come join us at the Shelburne Historical Society Museum for Ghosts in the Attic: A Shelburne Falls Legacy in Letters\, presented by Susanna Minton Graham.\n\n\n\nFour generations of the Merrill family worked as stonemasons in Shelburne Falls\, designing and building numerous structures in Franklin County\, including the foundation of Arms Academy\, the fire tower on Mt. Massamet\, and the current Keystone Market building. This presentation is based on over 2\,000 Merrill family letters and other research.
X-ALT-DESC;FMTTYPE=text/html:Come join us at the Shelburne Historical Society Museum for Ghosts in the Attic: A Shelburne Falls Legacy in Letters\, presented by Susanna Minton Graham.<br />\n<br />\nFour generations of the Merrill family worked as stonemasons in Shelburne Falls\, designing and building numerous structures in Franklin County\, including the foundation of Arms Academy\, the fire tower on Mt. Massamet\, and the current Keystone Market building. This presentation is based on over 2\,000 Merrill family letters and other research.&nbsp\;
LOCATION:Shelburne Historical Society 33 Severance St.\, Shelburne Falls
UID:e.2182.25077
SEQUENCE:3
DTSTAMP:20260424T031602Z
URL:https://chamber.franklincc.org/events/details/ghosts-in-the-attic-a-shelburne-falls-legacy-in-letters-25077
END:VEVENT

END:VCALENDAR
