BEGIN:VCALENDAR
VERSION:2.0
PRODID:-//ChamberMaster//Event Calendar 2.0//EN
METHOD:PUBLISH
X-PUBLISHED-TTL:P3D
REFRESH-INTERVAL:P3D
CALSCALE:GREGORIAN
BEGIN:VEVENT
DTSTART:20250214T000000Z
DTEND:20250214T020000Z
X-MICROSOFT-CDO-ALLDAYEVENT:FALSE
SUMMARY:GHOST – Movie Benefit at Garden Cinemas for Community Clay
DESCRIPTION:A movie benefit for community clay at Greenfield Garden Cinemas. Join them for this classic and steamy film\, as well as a stellar silent auction of mugs donated by our incredible community of local ceramicists and potters.00% of proceeds from seat reservations and the silent auction go directly to Artspace's Community Clay Fundraising efforts. Seats can be reserved on the website OR at the door! The movie starts at 7pm.
X-ALT-DESC;FMTTYPE=text/html:A movie benefit for community clay at Greenfield Garden Cinemas. Join them for this classic and steamy film\, as well as a stellar silent auction of mugs donated by our incredible community of local ceramicists and potters.00% of proceeds from seat reservations and the silent auction go directly to Artspace&rsquo\;s Community Clay Fundraising efforts. Seats can be reserved on the website OR at the door! The movie starts at 7pm.
LOCATION:Greenfield Garden Cinemas 361 Main Street\, Greenfield
UID:e.2182.24224
SEQUENCE:3
DTSTAMP:20260424T001641Z
URL:https://chamber.franklincc.org/events/details/ghost-movie-benefit-at-garden-cinemas-for-community-clay-24224
END:VEVENT

END:VCALENDAR
