BEGIN:VCALENDAR
VERSION:2.0
PRODID:-//ChamberMaster//Event Calendar 2.0//EN
METHOD:PUBLISH
X-PUBLISHED-TTL:P3D
REFRESH-INTERVAL:P3D
CALSCALE:GREGORIAN
BEGIN:VEVENT
DTSTART:20240303T150000Z
DTEND:20240303T170000Z
X-MICROSOFT-CDO-ALLDAYEVENT:FALSE
SUMMARY:Get Fit\, Give Back Fundraising Fitness Class
DESCRIPTION:Big Brothers Big Sisters of Western Mass and Common Ground Fitness Center are teaming up for our Get Fit\, Give Back Fundraising Fitness Class. You are invited to be a part of something extraordinary. Together\, let's create and support one-to-one mentoring relationships that ignite the power and promise of youth.
X-ALT-DESC;FMTTYPE=text/html:Big Brothers Big Sisters of Western Mass and Common Ground Fitness Center are teaming up for our Get Fit\, Give Back Fundraising Fitness Class. You are invited to be a part of something extraordinary. Together\, let&#39\;s create and support one-to-one mentoring relationships that ignite the power and promise of youth.
LOCATION:Common Ground Fitness Center 369 Federal Street Greenfield\, MA
UID:e.2182.22698
SEQUENCE:3
DTSTAMP:20260424T171050Z
URL:https://chamber.franklincc.org/events/details/get-fit-give-back-fundraising-fitness-class-22698
END:VEVENT

END:VCALENDAR
