BEGIN:VCALENDAR
VERSION:2.0
PRODID:-//ChamberMaster//Event Calendar 2.0//EN
METHOD:PUBLISH
X-PUBLISHED-TTL:P3D
REFRESH-INTERVAL:P3D
CALSCALE:GREGORIAN
BEGIN:VEVENT
DTSTART:20250809T223000Z
DTEND:20250810T003000Z
X-MICROSOFT-CDO-ALLDAYEVENT:FALSE
SUMMARY:Full Moon Concert with Home Body and Wishbone Zoe
DESCRIPTION:RiverCulture\, the creative economy program of the Town of Montague\, is happy to announce the annual performance of local heroes. Curated by Haley Morgan and Eric Hnatow of the duo Home Body\, the event will open at 6:30pm (sharp!) with the breezy folk-rock stylings of Wishbone Zoe. Folks are encouraged to bring a picnic dinner and lawn chairs to this free\, family-friendly\, ADA accessible event.\n\n\n\nVocalist Haley Morgan and synthesist Eric Hnatow make heartfelt electro-pop as Home Body. Known for their energetic live performances (IYKYK)\, the duo harnesses light\, sound\, and movement to present a spirited synth spectacle oozing with raw power and emotional grit. Wishbone Zoe is the dynamic musical project of multi-media musician and local artist Zosia Kochanski.\n\n\n\nThis year Home Body will be "passing the hat" to raise funds to support the Franklin County Peoples Fund\, an all-volunteer solidarity fund which provides immediate support to folks in Franklin County facing financial emergencies due to family separation\, deportation\, incarceration\, and housing instability.\n\n\n\nThis full moon concert with Home Body and Wishbone Zoe is presented by RiverCulture with support from the Mass Cultural Council Turners Falls Cultural District Grant. Sunday\, August 10 at 6:30pm is the rain date. INFO: www.facebook.com/RiverCulture
X-ALT-DESC;FMTTYPE=text/html:<span style="color:black\;"><span style="font-family:aptos\,sans-serif\;"><span style="font-size:12.0pt\;">RiverCulture\, the creative economy program of the Town of Montague\, is happy to announce the annual performance of local heroes. Curated by Haley Morgan and Eric Hnatow of the duo Home Body\, the event will open at 6:30pm (sharp!) with the breezy folk-rock stylings of Wishbone Zoe. Folks are encouraged to bring a picnic dinner and lawn chairs to this free\, family-friendly\, ADA accessible event.<br />\n<br />\nVocalist Haley Morgan and synthesist Eric Hnatow make heartfelt electro-pop as Home Body. Known for their energetic live performances (IYKYK)\, the duo harnesses light\, sound\, and movement to present a spirited synth spectacle oozing with raw power and emotional grit. Wishbone Zoe is the dynamic musical project of multi-media musician and local artist Zosia Kochanski.<br />\n<br />\nThis year Home Body will be &ldquo\;passing the hat&rdquo\; to raise funds to support the Franklin County Peoples Fund\, an all-volunteer solidarity fund which provides immediate support to folks in Franklin County facing financial emergencies due to family separation\, deportation\, incarceration\, and housing instability.<br />\n<br />\nThis full moon concert with Home Body and Wishbone Zoe is presented by RiverCulture with support from the Mass Cultural Council Turners Falls Cultural District Grant. Sunday\, August 10 at 6:30pm is the rain date. INFO: </span></span></span><u><span style="color:#467886\;"><span style="font-family:aptos\,sans-serif\;"><span style="font-size:12.0pt\;"><a href="http://www.facebook.com/RiverCulture"><span style="color:#467886\;">www.facebook.com/RiverCulture</span></a></span></span></span></u>
LOCATION:Peskeompskut Park bandshell Avenue A and Seventh Street in Turners Falls.
UID:e.2182.24948
SEQUENCE:3
DTSTAMP:20260424T013742Z
URL:https://chamber.franklincc.org/events/details/full-moon-concert-with-home-body-and-wishbone-zoe-24948
END:VEVENT

END:VCALENDAR
