BEGIN:VCALENDAR
VERSION:2.0
PRODID:-//ChamberMaster//Event Calendar 2.0//EN
METHOD:PUBLISH
X-PUBLISHED-TTL:P3D
REFRESH-INTERVAL:P3D
CALSCALE:GREGORIAN
BEGIN:VEVENT
DTSTART:20250517T130000Z
DTEND:20250517T190000Z
X-MICROSOFT-CDO-ALLDAYEVENT:FALSE
SUMMARY:Friends of Sunderland Library Book\, Bake\, and Plant Sale
DESCRIPTION:Annual Book\, Bake \, and Plant Sale to benefit the Sunderland Public Library. Books are displayed by category\, the baked goods are always delicious\, and the plants are local! Rain or shine.
X-ALT-DESC;FMTTYPE=text/html:Annual Book\, Bake \, and Plant Sale to benefit the Sunderland Public Library. Books are displayed by category\, the baked goods are always delicious\, and the plants are local! Rain or shine.
LOCATION:Book and Bake Sale in the library\, 20 School St.\, Sunderland Plant sale at the corner of N. Main and School Streets\, Sunderland
UID:e.2182.24633
SEQUENCE:3
DTSTAMP:20260423T224830Z
URL:https://chamber.franklincc.org/events/details/friends-of-sunderland-library-book-bake-and-plant-sale-24633
END:VEVENT

END:VCALENDAR
