BEGIN:VCALENDAR
VERSION:2.0
PRODID:-//ChamberMaster//Event Calendar 2.0//EN
METHOD:PUBLISH
X-PUBLISHED-TTL:P3D
REFRESH-INTERVAL:P3D
CALSCALE:GREGORIAN
BEGIN:VEVENT
DTSTART:20190726T133000Z
DTEND:20190726T203000Z
X-MICROSOFT-CDO-ALLDAYEVENT:FALSE
SUMMARY:Free Fun Friday at Historic Deerfield
DESCRIPTION:Historic Deerfield will offer free admission as part of the Highland Street Foundations's Free Fun Friday series. The free day will include historic house tours\, demonstrations\, crafts\, games and more.
X-ALT-DESC;FMTTYPE=text/html:Historic Deerfield will offer free admission as part of the <a href="http://www.highlandstreet.org/programs/free-fun-fridays-2019" target="_blank">Highland Street Foundations&#39\;s Free Fun Friday series.</a>&nbsp\;The free day will include historic house tours\, demonstrations\, crafts\, games and more.
LOCATION:Historic Deerfield Old Main Street\, Deerfield
UID:e.2182.15196
SEQUENCE:3
DTSTAMP:20260419T213026Z
URL:https://chamber.franklincc.org/events/details/free-fun-friday-at-historic-deerfield-15196
END:VEVENT

END:VCALENDAR
