BEGIN:VCALENDAR
VERSION:2.0
PRODID:-//ChamberMaster//Event Calendar 2.0//EN
METHOD:PUBLISH
X-PUBLISHED-TTL:P3D
REFRESH-INTERVAL:P3D
CALSCALE:GREGORIAN
BEGIN:VEVENT
DTSTART:20250503T123000Z
DTEND:20250503T180000Z
X-MICROSOFT-CDO-ALLDAYEVENT:FALSE
SUMMARY:Franklin County's Largest Tag Sale
DESCRIPTION:This event is perfect for yard/garage sale participants\, storage unit & basement clear-outs\, flea market vendors\, crafters\, home based companies\, etc. It's happening Saturday\, May 10th\, 2025\, 8:30am to 2:00pm at the Franklin County Fairgrounds in Greenfield.
X-ALT-DESC;FMTTYPE=text/html:<span style="color: rgb(111\, 114\, 135)\; font-family: &quot\;Neue Plak&quot\;\, -apple-system\, BlinkMacSystemFont\, Roboto\, &quot\;Helvetica Neue&quot\;\, Helvetica\, Tahoma\, Arial\, sans-serif\; font-size: 16px\;">This event is perfect for yard/garage sale participants\, storage unit &amp\; basement clear-outs\, flea market vendors\, crafters\, home based companies\, etc. It&#39\;s happening Saturday\, May 10th\, 2025\, 8:30am to 2:00pm at the Franklin County Fairgrounds in Greenfield.</span>
LOCATION:Franklin County Fairgrounds 89 Wisdom Way\, Greenfield
UID:e.2182.24642
SEQUENCE:3
DTSTAMP:20260423T204535Z
URL:https://chamber.franklincc.org/events/details/franklin-county-s-largest-tag-sale-05-03-2025-24642
END:VEVENT

END:VCALENDAR
