BEGIN:VCALENDAR
VERSION:2.0
PRODID:-//ChamberMaster//Event Calendar 2.0//EN
METHOD:PUBLISH
X-PUBLISHED-TTL:P3D
REFRESH-INTERVAL:P3D
CALSCALE:GREGORIAN
BEGIN:VEVENT
DTSTART:20231116T220000Z
DTEND:20231117T003000Z
X-MICROSOFT-CDO-ALLDAYEVENT:FALSE
SUMMARY:Franklin County CDC 44th Annual Meeting: Building Economic Justice
DESCRIPTION:Join us us on Nov. 16 to celebrate the entrepreneurs we serve who bring economic activity and jobs to their communities. We'll be shining the light on the programs of the Franklin County CDC that work to Build Economic Justice as a foundation for racial justice and food equity. Entrepreneurs will be sharing their stories! We'll be networking\, enjoying farm fresh refreshments from Judd's Czech American Cuisine\, and connecting at the beautiful Divine Theater at Gateway City Arts in Holyoke. RSVP requested at the link below. \n\n\n\nhttps://app.etapestry.com/onlineforms/FranklinCountyCommunityDevelo/AnnMeet44-1.html
X-ALT-DESC;FMTTYPE=text/html:<span style="color:rgb(5\, 5\, 5)\; font-family:segoe ui historic\,segoe ui\,helvetica\,arial\,sans-serif\; font-size:15px">Join us us on Nov. 16 to celebrate the entrepreneurs we serve who bring economic activity and jobs to their communities. We&#39\;ll be shining the light on the programs of the Franklin County CDC that work to Build Economic Justice as a foundation for racial justice and food equity. Entrepreneurs will be sharing their stories! We&#39\;ll be networking\, enjoying farm fresh refreshments from Judd&#39\;s Czech American Cuisine\, and connecting at the beautiful Divine Theater at Gateway City Arts in Holyoke. RSVP requested at the link below.&nbsp\;</span><br />\n<br />\n<a href="https://app.etapestry.com/onlineforms/FranklinCountyCommunityDevelo/AnnMeet44-1.html" target="_blank">https://app.etapestry.com/onlineforms/FranklinCountyCommunityDevelo/AnnMeet44-1.html&nbsp\;</a>
LOCATION:Gateway City Arts Divine Theater 92 Race Street Holyoke\, MA 01040
UID:e.2182.22295
SEQUENCE:3
DTSTAMP:20260424T223949Z
URL:https://chamber.franklincc.org/events/details/franklin-county-cdc-44th-annual-meeting-building-economic-justice-22295
END:VEVENT

END:VCALENDAR
