BEGIN:VCALENDAR
VERSION:2.0
PRODID:-//ChamberMaster//Event Calendar 2.0//EN
METHOD:PUBLISH
X-PUBLISHED-TTL:P3D
REFRESH-INTERVAL:P3D
CALSCALE:GREGORIAN
BEGIN:VEVENT
DTSTART:20250310T160000Z
DTEND:20250310T170000Z
X-MICROSOFT-CDO-ALLDAYEVENT:FALSE
SUMMARY:Franchising 101-Small Business Ownership
DESCRIPTION:ONLINE --- \nAre you considering entrepreneurship as a career option but want a proven business model to get to your goals more quickly and safer? Would you like to run a business of your own that will provide greater autonomy and independence\, but are not sure how to find\, or choose\, the right business for you? If you have answered 'Yes' to either of these questions\, then this workshop is for you! Presented by one of North America's Top Franchise Consultants\n\nThis session will include:\n\nPositives/Negatives of starting your own business or buying an existing business vs. buying a franchise\n\nCommon myths and truths about franchising   it's not just food and retail\n\nReview of different ownership options including options that allow someone to remain in corporate and build a franchise on the side\n\nReview of recession resistant franchise categories\n\nGovernment regulations for franchises\n\nThe importance of knowing your personal goals and objectives before taking the plunge\n\nHow to safely research and select the right franchise for you\n\nHow to finance your business\n\nPresenter:\n\nDana Hall is a franchise consultant with FranNet of Boston providing expert advice and guidance for prospective franchise business owners. FranNet's proprietary Personal Franchise Assessment tool\, thorough and personalized one-one consultation\, and a 30 plus year history of excellence sets FranNet apart. This combined with Dana's 30 years of experience in financial analysis\, strategic business planning\, operations\, and local store marketing results in superior outcomes for clients.https://score.tfaforms.net/112?EventID=a10Vt000003xyrF&activeChapter=SE+Massachusetts&_gl=1*1n6uots*_ga*NzkwOTk4NzEuMTc0MTE4ODMwNA..*_ga_3LHXGY70TN*MTc0MTE4ODMwNC4xLjEuMTc0MTE4ODYyMS41Ny4wLjA.&origination=https%253A%252F%252Fwww.score.org%252Fboston%252Fevent%252Ffranchising-101-small-business-ownership-10
X-ALT-DESC;FMTTYPE=text/html:ONLINE ---&nbsp\;\n<p style="box-sizing: border-box\; border-width: 0px\; border-style: solid\; border-color: currentcolor\; margin: 0px\; font-family: var(--ff-body)\; font-size: var(--fs-xl)\; line-height: var(--lh-xl)\; color: var(--brand-secondaryGraphite)\; margin-block-start: var(--wysiwyg-gap-size)\; margin-block-end: var(--wysiwyg-gap-size)\;">Are you considering entrepreneurship as a career option but want a proven business model to get to your goals more quickly and safer? Would you like to run a business of your own that will provide greater autonomy and independence\, but are not sure how to find\, or choose\, the right business for you? If you have answered &lsquo\;Yes&rsquo\; to either of these questions\, then this workshop is for you! Presented by one of North America&rsquo\;s Top Franchise Consultants</p>\n\n<p style="box-sizing: border-box\; border-width: 0px\; border-style: solid\; border-color: currentcolor\; margin: 0px\; font-family: var(--ff-body)\; font-size: var(--fs-xl)\; line-height: var(--lh-xl)\; color: var(--brand-secondaryGraphite)\; margin-block-start: var(--wysiwyg-gap-size)\; margin-block-end: var(--wysiwyg-gap-size)\;">This session will include:<br style="box-sizing: border-box\; border-width: 0px\; border-style: solid\; border-color: currentcolor\;" />\nPositives/Negatives of starting your own business or buying an existing business vs. buying a franchise<br style="box-sizing: border-box\; border-width: 0px\; border-style: solid\; border-color: currentcolor\;" />\nCommon myths and truths about franchising &ndash\; it&rsquo\;s not just food and retail<br style="box-sizing: border-box\; border-width: 0px\; border-style: solid\; border-color: currentcolor\;" />\nReview of different ownership options including options that allow someone to remain in corporate and build a franchise on the side<br style="box-sizing: border-box\; border-width: 0px\; border-style: solid\; border-color: currentcolor\;" />\nReview of recession resistant franchise categories<br style="box-sizing: border-box\; border-width: 0px\; border-style: solid\; border-color: currentcolor\;" />\nGovernment regulations for franchises<br style="box-sizing: border-box\; border-width: 0px\; border-style: solid\; border-color: currentcolor\;" />\nThe importance of knowing your personal goals and objectives before taking the plunge<br style="box-sizing: border-box\; border-width: 0px\; border-style: solid\; border-color: currentcolor\;" />\nHow to safely research and select the right franchise for you<br style="box-sizing: border-box\; border-width: 0px\; border-style: solid\; border-color: currentcolor\;" />\nHow to finance your business</p>\n\n<p style="box-sizing: border-box\; border-width: 0px\; border-style: solid\; border-color: currentcolor\; margin: 0px\; font-family: var(--ff-body)\; font-size: var(--fs-xl)\; line-height: var(--lh-xl)\; color: var(--brand-secondaryGraphite)\; margin-block-start: var(--wysiwyg-gap-size)\; margin-block-end: var(--wysiwyg-gap-size)\;">Presenter:<br style="box-sizing: border-box\; border-width: 0px\; border-style: solid\; border-color: currentcolor\;" />\nDana Hall is a franchise consultant with FranNet of Boston providing expert advice and guidance for prospective franchise business owners. FranNet&rsquo\;s proprietary Personal Franchise Assessment tool\, thorough and personalized one-one consultation\, and a 30 plus year history of excellence sets FranNet apart. This combined with Dana&rsquo\;s 30 years of experience in financial analysis\, strategic business planning\, operations\, and local store marketing results in superior outcomes for clients.<a href="https://score.tfaforms.net/112?EventID=a10Vt000003xyrF&amp\;activeChapter=SE+Massachusetts&amp\;_gl=1*1n6uots*_ga*NzkwOTk4NzEuMTc0MTE4ODMwNA..*_ga_3LHXGY70TN*MTc0MTE4ODMwNC4xLjEuMTc0MTE4ODYyMS41Ny4wLjA.&amp\;origination=https%253A%252F%252Fwww.score.org%252Fboston%252Fevent%252Ffranchising-101-small-business-ownership-10" target="_blank">https://score.tfaforms.net/112?EventID=a10Vt000003xyrF&amp\;activeChapter=SE+Massachusetts&amp\;_gl=1*1n6uots*_ga*NzkwOTk4NzEuMTc0MTE4ODMwNA..*_ga_3LHXGY70TN*MTc0MTE4ODMwNC4xLjEuMTc0MTE4ODYyMS41Ny4wLjA.&amp\;origination=https%253A%252F%252Fwww.score.org%252Fboston%252Fevent%252Ffranchising-101-small-business-ownership-10</a></p>\n
LOCATION:Click here to register.
UID:e.2182.24289
SEQUENCE:3
DTSTAMP:20260423T223209Z
URL:https://chamber.franklincc.org/events/details/franchising-101-small-business-ownership-24289
END:VEVENT

END:VCALENDAR
