BEGIN:VCALENDAR
VERSION:2.0
PRODID:-//ChamberMaster//Event Calendar 2.0//EN
METHOD:PUBLISH
X-PUBLISHED-TTL:P3D
REFRESH-INTERVAL:P3D
CALSCALE:GREGORIAN
BEGIN:VEVENT
DTSTART:20250704T180000Z
DTEND:20250705T020000Z
X-MICROSOFT-CDO-ALLDAYEVENT:FALSE
SUMMARY:Fourth of July Fire - Food & Fire Festival
DESCRIPTION:Food & Fire Festival - food trucks\, fireworks\, workshops\, kids entertainment\, bounce houses\, Glass Village\, Clones & Genetics Showcase\, Adult Gaming Area\, Canna informed Speakers\, Beer Truck & Tent.\n\nLive Music - Creamery Station\, Leon Trout\, Pretty Rotten\, Small Town Radio\, Sunset Creatures\, and Peregrine Dream.\n\nState permitted fireworks at 9:15 p.m.\n\n$15 entry.\n\nAll age event. - $10 online.\n\nUnder 5 FREE.
X-ALT-DESC;FMTTYPE=text/html:Food &amp\; Fire Festival - food trucks\, fireworks\, workshops\, kids entertainment\, bounce houses\, Glass Village\, Clones &amp\; Genetics Showcase\, Adult Gaming Area\, Canna informed Speakers\, Beer Truck &amp\; Tent.<br />\nLive Music - Creamery Station\, Leon Trout\, Pretty Rotten\, Small Town Radio\, Sunset Creatures\, and Peregrine Dream.<br />\nState permitted fireworks at 9:15 p.m.<br />\n$15 entry.<br />\nAll age event. - $10 online.<br />\nUnder 5 FREE.
LOCATION:Franklin County Fairgrounds 89 Wisdom Way\, Greenfield
UID:e.2182.24861
SEQUENCE:3
DTSTAMP:20260424T001559Z
URL:https://chamber.franklincc.org/events/details/fourth-of-july-fire-food-fire-festival-24861
END:VEVENT

END:VCALENDAR
