BEGIN:VCALENDAR
VERSION:2.0
PRODID:-//ChamberMaster//Event Calendar 2.0//EN
METHOD:PUBLISH
X-PUBLISHED-TTL:P3D
REFRESH-INTERVAL:P3D
CALSCALE:GREGORIAN
BEGIN:VEVENT
DTSTART:20250125T190000Z
DTEND:20250125T200000Z
X-MICROSOFT-CDO-ALLDAYEVENT:FALSE
SUMMARY:Forgotten Immigrants: The Bohemians of Turners Falls
DESCRIPTION:Beginning in the 1870s\, drawn by the promise of work at the John Russell Cutlery factory\, almost 300 Bohemian immigrants left farms in central Europe to start life anew in the industrial village of Turners Falls. This illustrated talk by local historian Jim Bridgeman\, based on over 35 years of research and his new book\, Forgotten Immigrants\, explores the lives of these intrepid pioneers. Find out what motivated Bohemians to leave their ancestral homes\, and what they found once they arrived in Western Massachusetts. Sponsored by the Pocumtuck Valley Memorial Association. For youth and adults.
X-ALT-DESC;FMTTYPE=text/html:Beginning in the 1870s\, drawn by the promise of work at the John Russell Cutlery factory\, almost 300 Bohemian immigrants left farms in central Europe to start life anew in the industrial village of Turners Falls. This illustrated talk by local historian Jim Bridgeman\, based on over 35 years of research and his new book\, Forgotten Immigrants\, explores the lives of these intrepid pioneers. Find out what motivated Bohemians to leave their ancestral homes\, and what they found once they arrived in Western Massachusetts. Sponsored by the Pocumtuck Valley Memorial Association. For youth and adults.&nbsp\;<br />\n&nbsp\;<br />\n
LOCATION:Meet in the Great Hall. Great Falls Discovery Center 2 Avenue A\, Turners Falls
UID:e.2182.24125
SEQUENCE:3
DTSTAMP:20260424T001559Z
URL:https://chamber.franklincc.org/events/details/forgotten-immigrants-the-bohemians-of-turners-falls-24125
END:VEVENT

END:VCALENDAR
