BEGIN:VCALENDAR
VERSION:2.0
PRODID:-//ChamberMaster//Event Calendar 2.0//EN
METHOD:PUBLISH
X-PUBLISHED-TTL:P3D
REFRESH-INTERVAL:P3D
CALSCALE:GREGORIAN
BEGIN:VEVENT
DTSTART:20231008T180000Z
DTEND:20231008T230000Z
X-MICROSOFT-CDO-ALLDAYEVENT:FALSE
SUMMARY:Flooded Fields Full Hearts Flood Relief Concert
DESCRIPTION:Concert to benefit CISA (Community Involved in Sustaining Agriculture).\n\nFeaturing Reed Foehl & Friends\, Greg Smith & Tory Hanna of the Whiskey Treaty Roadshow. Early show with House Tartaria (2 p.m.).
X-ALT-DESC;FMTTYPE=text/html:Concert to benefit CISA (Community Involved in Sustaining Agriculture).<br />\nFeaturing Reed Foehl &amp\; Friends\, Greg Smith &amp\; Tory Hanna of the Whiskey Treaty Roadshow. Early show with House Tartaria (2 p.m.).
LOCATION:In the Backyard at Berkshire East.
UID:e.2182.22220
SEQUENCE:3
DTSTAMP:20260424T235523Z
URL:https://chamber.franklincc.org/events/details/flooded-fields-full-hearts-flood-relief-concert-22220
END:VEVENT

END:VCALENDAR
