BEGIN:VCALENDAR
VERSION:2.0
PRODID:-//ChamberMaster//Event Calendar 2.0//EN
METHOD:PUBLISH
X-PUBLISHED-TTL:P3D
REFRESH-INTERVAL:P3D
CALSCALE:GREGORIAN
BEGIN:VEVENT
DTSTART:20230616T203000Z
DTEND:20230616T223000Z
X-MICROSOFT-CDO-ALLDAYEVENT:FALSE
SUMMARY:Flavor Fair: A Celebration of All Things Local
DESCRIPTION:Green Fields Market is planning Flavor Fair\, A Celebration of All Things Local!...a lively afternoon of locally produced food and community in the walkway next to the store. We are featuring local food and producers who supply Green Fields Market. We'll have local foods\, live music\, kids activities\, and celebrating our community and member-owners. ALL ARE WELCOME! FREE!
X-ALT-DESC;FMTTYPE=text/html:Green Fields Market is planning Flavor Fair\, A Celebration of All Things Local!...a lively afternoon of locally produced food and community in the walkway next to the store. We are featuring local food and producers who supply Green Fields Market. We&#39\;ll have local foods\, live music\, kids activities\, and celebrating our community and member-owners. ALL ARE WELCOME! FREE!
LOCATION:Walkway next to Green Fields Market\, 144 Main Street\, Greenfield
UID:e.2182.19833
SEQUENCE:3
DTSTAMP:20260425T015053Z
URL:https://chamber.franklincc.org/events/details/flavor-fair-a-celebration-of-all-things-local-19833
END:VEVENT

END:VCALENDAR
