BEGIN:VCALENDAR
VERSION:2.0
PRODID:-//ChamberMaster//Event Calendar 2.0//EN
METHOD:PUBLISH
X-PUBLISHED-TTL:P3D
REFRESH-INTERVAL:P3D
CALSCALE:GREGORIAN
BEGIN:VEVENT
DTSTART:20240505T000000Z
DTEND:20240506T030000Z
X-MICROSOFT-CDO-ALLDAYEVENT:FALSE
SUMMARY:First Saturday Contra Dance with Wild Asparagus
DESCRIPTION:Come and dance to the wonderful George Marshall and Wild Asparagus. Drawing upon music from New England\, the British Isles\, and Canada. Wild Asparagus with George Marshall (Englis concertina)\, David Cantieni (flutes\, tin-whistle\, oboe\, saxophone and bombard)\, Becky Tracy (fiddling)\, and Ann Percival (piano\, guitar and vocals).
X-ALT-DESC;FMTTYPE=text/html:Come and dance to the wonderful George Marshall and Wild Asparagus. Drawing upon music from New England\, the British Isles\, and Canada. Wild Asparagus with George Marshall (Englis concertina)\, David Cantieni (flutes\, tin-whistle\, oboe\, saxophone and bombard)\, Becky Tracy (fiddling)\, and Ann Percival (piano\, guitar and vocals).
LOCATION:Guiding Star Grange 401 Chapman Street\, Greenfield
UID:e.2182.22870
SEQUENCE:3
DTSTAMP:20260424T154157Z
URL:https://chamber.franklincc.org/events/details/first-saturday-contra-dance-with-wild-asparagus-05-04-2024-22870
END:VEVENT

END:VCALENDAR
