BEGIN:VCALENDAR
VERSION:2.0
PRODID:-//ChamberMaster//Event Calendar 2.0//EN
METHOD:PUBLISH
X-PUBLISHED-TTL:P3D
REFRESH-INTERVAL:P3D
CALSCALE:GREGORIAN
BEGIN:VEVENT
DTSTART:20230501T223000Z
DTEND:20230502T010000Z
X-MICROSOFT-CDO-ALLDAYEVENT:FALSE
SUMMARY:Film Screening: The Ancient Law
DESCRIPTION:A recently restored German silent film about Jewish life in 19th-century Europe\, The Ancient Law is a precursor to Warner Brothers' The Jazz Singer. The film tells the story of a rabbi's son who yearns to become an actor\, against the wishes of his father. With its historically authentic set design and ensemble of prominent actors\, the film is an important piece of German-Jewish cinematic history that contrasts the closed world of an Eastern European shtetl with the liberal mores of 1860s Vienna. Live music accompaniment by pianist Donald Sosin and violinist Alicia Svigals. DRAMA | 1923 | 128 MINUTES GERMANY | GERMAN AND SILENT WITH ENGLISH INTERTITLES DIRECTED BY EWALD ANDR  DUPONT
X-ALT-DESC;FMTTYPE=text/html:A recently restored German silent film about Jewish life in 19th-century Europe\, The Ancient Law is a precursor to Warner Brothers&rsquo\; The Jazz Singer. The film tells the story of a rabbi&rsquo\;s son who yearns to become an actor\, against the wishes of his father. With its historically authentic set design and ensemble of prominent actors\, the film is an important piece of German-Jewish cinematic history that contrasts the closed world of an Eastern European shtetl with the liberal mores of 1860s Vienna. Live music accompaniment by pianist Donald Sosin and violinist Alicia Svigals. DRAMA | 1923 | 128 MINUTES GERMANY | GERMAN AND SILENT WITH ENGLISH INTERTITLES DIRECTED BY EWALD ANDR&Egrave\; DUPONT
LOCATION:Greenfield Garden Cinemas
UID:e.2182.19689
SEQUENCE:3
DTSTAMP:20260425T002311Z
URL:https://chamber.franklincc.org/events/details/film-screening-the-ancient-law-19689
END:VEVENT

END:VCALENDAR
