BEGIN:VCALENDAR
VERSION:2.0
PRODID:-//ChamberMaster//Event Calendar 2.0//EN
METHOD:PUBLISH
X-PUBLISHED-TTL:P3D
REFRESH-INTERVAL:P3D
CALSCALE:GREGORIAN
BEGIN:VEVENT
DTSTART:20230505T190000Z
DTEND:20230505T210000Z
X-MICROSOFT-CDO-ALLDAYEVENT:FALSE
SUMMARY:Film Screening: Paris Boutique
DESCRIPTION:Louise\, a Parisian Jewish lawyer on her way to finalize an important real estate deal in Jerusalem\, meets Neta\, an Israeli freelance cabbie who dreams of opening a hotel in Mahane Yehuda. Together the two women stumble upon a secret connection between an ulta-Orthodox woman and a Christian man who communicate through notes hidden within the grooves of the Wailing Wall in the Old City of Jerusalem. Intrigued by this mystery\, Louise and Neta follow this puzzling couple through the alleyways of the city. This comedy of errors in the heart of magical Jerusalem follows the story of friendship between two women at a critical point in both of their lives. COMEDY | 2022 | 81 MINUTES ISRAEL\, FRANCE | HEBREW\, ENGLISH\, FRENCH\, ARABIC\, AND SPANISH WITH SUBTITLES DIRECTED BY MARCO CARMEL
X-ALT-DESC;FMTTYPE=text/html:Louise\, a Parisian Jewish lawyer on her way to finalize an important real estate deal in Jerusalem\, meets Neta\, an Israeli freelance cabbie who dreams of opening a hotel in Mahane Yehuda. Together the two women stumble upon a secret connection between an ulta-Orthodox woman and a Christian man who communicate through notes hidden within the grooves of the Wailing Wall in the Old City of Jerusalem. Intrigued by this mystery\, Louise and Neta follow this puzzling couple through the alleyways of the city. This comedy of errors in the heart of magical Jerusalem follows the story of friendship between two women at a critical point in both of their lives. COMEDY | 2022 | 81 MINUTES ISRAEL\, FRANCE | HEBREW\, ENGLISH\, FRENCH\, ARABIC\, AND SPANISH WITH SUBTITLES DIRECTED BY MARCO CARMEL
LOCATION:Greenfield Garden Cinemas
UID:e.2182.19690
SEQUENCE:3
DTSTAMP:20260425T002310Z
URL:https://chamber.franklincc.org/events/details/film-screening-paris-boutique-19690
END:VEVENT

END:VCALENDAR
