BEGIN:VCALENDAR
VERSION:2.0
PRODID:-//ChamberMaster//Event Calendar 2.0//EN
METHOD:PUBLISH
X-PUBLISHED-TTL:P3D
REFRESH-INTERVAL:P3D
CALSCALE:GREGORIAN
BEGIN:VEVENT
DTSTART:20230217T123000Z
DTEND:20230217T140000Z
X-MICROSOFT-CDO-ALLDAYEVENT:FALSE
SUMMARY:February Breakfast - I Love My Job
DESCRIPTION:In Franklin County\, we love our jobs! On Friday\, February 17th\, join us for breakfast at Terrazza's Restaurant and hear from a panel of local business leaders as they describe their roles across various economic sectors and why they love their jobs! Featured panelists include:\n\n\n	Rachael Kashner\, Owner\, Happy Tails Dog Day Camp\n	Sam Plotkin\, Owner\, Steadfast Wealth Management\n	James Fitzgerald\, Owner Watershed Restaurant/Deerfield Police Officer\n	Jessica Atwood\, Economic Development Program Manager\, FRCOG\n	Kat Woods\, Associate Director of Marketing\, GCC\n	Sam French\, Owner\, Gill CC Woodworks\n\n\nRegistration is open and everyone is welcome! Special thanks to our event sponsor\, Franklin First Federal Credit Union and our media sponsor\, BusinessWest.
X-ALT-DESC;FMTTYPE=text/html:<div>In Franklin County\, we love our jobs! On <strong>Friday\, February 17th</strong>\, join us for breakfast at Terrazza&#39\;s Restaurant and hear from a panel of local business leaders as they describe their roles across various economic sectors and why they love their jobs! Featured panelists include:</div>\n\n<ul>\n	<li>Rachael Kashner\, Owner\, Happy Tails Dog Day Camp</li>\n	<li>Sam Plotkin\, Owner\, Steadfast Wealth Management</li>\n	<li>James Fitzgerald\, Owner Watershed Restaurant/Deerfield Police Officer</li>\n	<li>Jessica Atwood\, Economic Development Program Manager\, FRCOG</li>\n	<li>Kat Woods\, Associate Director of Marketing\, GCC</li>\n	<li>Sam French\, Owner\, Gill CC Woodworks</li>\n</ul>\n\n<div>Registration is open and everyone is welcome! Special thanks to our event sponsor\, <strong><em>Franklin First Federal Credit Union</em></strong> and our media sponsor\, <strong><em>BusinessWest</em></strong>.&nbsp\;</div>\n
LOCATION:Terrazza Ristorante
UID:e.2182.19416
SEQUENCE:3
DTSTAMP:20260424T202532Z
URL:https://chamber.franklincc.org/events/details/february-breakfast-i-love-my-job-19416
END:VEVENT

END:VCALENDAR
