BEGIN:VCALENDAR
VERSION:2.0
PRODID:-//ChamberMaster//Event Calendar 2.0//EN
METHOD:PUBLISH
X-PUBLISHED-TTL:P3D
REFRESH-INTERVAL:P3D
CALSCALE:GREGORIAN
BEGIN:VEVENT
DTSTART:20241020T140000Z
DTEND:20241020T220000Z
X-MICROSOFT-CDO-ALLDAYEVENT:FALSE
SUMMARY:Fall Fun Weekends at Yankee Candle Village
DESCRIPTION:Yankee Candle Village is the place to be for Fall! Every weekend throughout September and October\, Yankee Candle Village is celebrating the change of season at their Fall Fun Weekend Events! Join the fun for Paint-a-Pumpkin with Santa\, games\, scavenger hunts and more! Additional attractions and other activities happening on special themed weekends so watch for more information including times and details on our events page. Every weekend we will pull a winner of a Yankee Candle Village "Flavors of Fall" gift package valued at over $250!
X-ALT-DESC;FMTTYPE=text/html:<span style="color: rgb(5\, 5\, 5)\; font-family: &quot\;Segoe UI Historic&quot\;\, &quot\;Segoe UI&quot\;\, Helvetica\, Arial\, sans-serif\; font-size: 15px\;">Yankee Candle Village is the place to be for Fall! Every weekend throughout September and October\, Yankee Candle Village is celebrating the change of season at their Fall Fun Weekend Events! Join the fun for Paint-a-Pumpkin with Santa\, games\, scavenger hunts and more! Additional attractions and other activities happening on special themed weekends so watch for more information including times and details on our events page. Every weekend we will pull a winner of a Yankee Candle Village &quot\;Flavors of Fall&quot\; gift package valued at over $250!</span>
LOCATION:25 Greenfield Rd\, South Deerfield\, MA
UID:e.2182.23659
SEQUENCE:3
DTSTAMP:20260424T065032Z
URL:https://chamber.franklincc.org/events/details/fall-fun-weekends-at-yankee-candle-village-10-20-2024-23659
END:VEVENT

END:VCALENDAR
