BEGIN:VCALENDAR
VERSION:2.0
PRODID:-//ChamberMaster//Event Calendar 2.0//EN
METHOD:PUBLISH
X-PUBLISHED-TTL:P3D
REFRESH-INTERVAL:P3D
CALSCALE:GREGORIAN
BEGIN:VEVENT
DTSTART:20230915T140000Z
DTEND:20230915T160000Z
X-MICROSOFT-CDO-ALLDAYEVENT:FALSE
SUMMARY:Fall Color Hike: Totem Trail
DESCRIPTION:Ages 6 to adult. A great way to see the fall foliage! Moderate hike under sugar maples with a view of the eastern hills at the overlook. 2.3 mile there-and-back hike with 550 feet elevation gain. A park interpreter will guide and help you explore the forest and observe the signs of the season in depth. Meet at Day Use Area on Route 2\, one mile west of Park Entrance.
X-ALT-DESC;FMTTYPE=text/html:<span style="color:black"><span style="font-family:georgia\,serif"><span style="font-size:12.0pt">Ages 6 to adult. A great way to see the fall foliage! Moderate hike under sugar maples with a view of the eastern hills at the overlook. 2.3 mile there-and-back hike with 550 feet elevation gain. A park interpreter will guide and help you explore the forest and observe the signs of the season in depth. <strong>Meet at Day Use Area on Route 2\, </strong><em>one mile west of Park Entrance.&nbsp\;</em></span></span></span>
LOCATION:Day Use Area on Route 2\, one mile west of Mohawk Trail State Forest park entrance.
UID:e.2182.20568
SEQUENCE:3
DTSTAMP:20260425T011334Z
URL:https://chamber.franklincc.org/events/details/fall-color-hike-totem-trail-09-15-2023-20568
END:VEVENT

END:VCALENDAR
