BEGIN:VCALENDAR
VERSION:2.0
PRODID:-//ChamberMaster//Event Calendar 2.0//EN
METHOD:PUBLISH
X-PUBLISHED-TTL:P3D
REFRESH-INTERVAL:P3D
CALSCALE:GREGORIAN
BEGIN:VEVENT
DTSTART:20181117T140000Z
DTEND:20181117T200000Z
X-MICROSOFT-CDO-ALLDAYEVENT:FALSE
SUMMARY:Fall/Christmas Craft Fair
DESCRIPTION:Over 30 local crafters. Bake Sale\, Lunch available.
X-ALT-DESC;FMTTYPE=text/html:Over 30 local crafters. Bake Sale\, Lunch available.
LOCATION:Holy Family Church 29 Sugarloaf Street\, South Deerfield
UID:e.2182.13468
SEQUENCE:3
DTSTAMP:20260424T211817Z
URL:https://chamber.franklincc.org/events/details/fall-christmas-craft-fair-13468
END:VEVENT

END:VCALENDAR
