BEGIN:VCALENDAR
VERSION:2.0
PRODID:-//ChamberMaster//Event Calendar 2.0//EN
METHOD:PUBLISH
X-PUBLISHED-TTL:P3D
REFRESH-INTERVAL:P3D
CALSCALE:GREGORIAN
BEGIN:VEVENT
DTSTART:20201121T150000Z
DTEND:20201121T183000Z
X-MICROSOFT-CDO-ALLDAYEVENT:FALSE
SUMMARY:Fairy House Take-and-Make Craft Bags
DESCRIPTION:Children and teens are invited to come get a bag filled with natural and recycled materials to create their own fairy houses.\n\n\n\nShare photos of your creations through Facebook message or email Angela: arovatti-leonard@cwmars.org
X-ALT-DESC;FMTTYPE=text/html:Children and teens are invited to come get a bag filled with natural and recycled materials to create their own fairy houses.<br />\n<br />\nShare photos of your creations through Facebook message or email Angela: arovatti-leonard@cwmars.org<br />\n&nbsp\;
LOCATION:Pick up a bag at Carnegie Library's Curbside Pick-Up\, behind the library 201 Avenue A\, Turners Falls.
UID:e.2182.17693
SEQUENCE:3
DTSTAMP:20260421T171036Z
URL:https://chamber.franklincc.org/events/details/fairy-house-take-and-make-craft-bags-17693
END:VEVENT

END:VCALENDAR
