BEGIN:VCALENDAR
VERSION:2.0
PRODID:-//ChamberMaster//Event Calendar 2.0//EN
METHOD:PUBLISH
X-PUBLISHED-TTL:P3D
REFRESH-INTERVAL:P3D
CALSCALE:GREGORIAN
BEGIN:VEVENT
DTSTART:20210529T123000Z
DTEND:20210529T162500Z
X-MICROSOFT-CDO-ALLDAYEVENT:FALSE
SUMMARY:EXTRAVAGANZA! - 26th Annual Plant Sale
DESCRIPTION:Presented by the Greenfield Garden Club plant sale. We will still be asking folks to wear masks and practice social distancing. Lots of plants are now being potted up for this sale\, and the Master Gardeners will be doing soil tests from 9 to 11 for a suggested donation of $2 per sample. Come early for best selection!
X-ALT-DESC;FMTTYPE=text/html:Presented by the Greenfield Garden Club plant sale. We will still be asking folks to wear masks and practice social distancing. Lots of plants are now being potted up for this sale\, and the Master Gardeners will be doing soil tests from 9 to 11 for a suggested donation of $2 per sample. Come early for best selection!
LOCATION:John Zon Community Center 35 Pleasant Street\, Greenfield
UID:e.2182.18033
SEQUENCE:3
DTSTAMP:20260419T214443Z
URL:https://chamber.franklincc.org/events/details/extravaganza-26th-annual-plant-sale-18033
END:VEVENT

END:VCALENDAR
