BEGIN:VCALENDAR
VERSION:2.0
PRODID:-//ChamberMaster//Event Calendar 2.0//EN
METHOD:PUBLISH
X-PUBLISHED-TTL:P3D
REFRESH-INTERVAL:P3D
CALSCALE:GREGORIAN
BEGIN:VEVENT
DTSTART:20250323T190000Z
DTEND:20250323T203000Z
X-MICROSOFT-CDO-ALLDAYEVENT:FALSE
SUMMARY:Eventide Singers Annual Benefit Concert
DESCRIPTION:Songs of Hope & Comfort.\n\n\n\nThe Eventide Singers are volunteers who offer complimentary bedside songs of hope & comfort the ill\, home-bound & others who may benefit by the healing gift of music.
X-ALT-DESC;FMTTYPE=text/html:Songs of Hope &amp\; Comfort.<br />\n<br />\nThe Eventide Singers are volunteers who offer complimentary bedside songs of hope &amp\; comfort the ill\, home-bound &amp\; others who may benefit by the healing gift of music.<br />\n&nbsp\;
LOCATION:Second Congregational Church 16 Court Square\, Greenfield
UID:e.2182.24310
SEQUENCE:3
DTSTAMP:20260423T211228Z
URL:https://chamber.franklincc.org/events/details/eventide-singers-annual-benefit-concert-24310
END:VEVENT

END:VCALENDAR
