BEGIN:VCALENDAR
VERSION:2.0
PRODID:-//ChamberMaster//Event Calendar 2.0//EN
METHOD:PUBLISH
X-PUBLISHED-TTL:P3D
REFRESH-INTERVAL:P3D
CALSCALE:GREGORIAN
BEGIN:VEVENT
DTSTART:20231015T170000Z
DTEND:20231015T210000Z
X-MICROSOFT-CDO-ALLDAYEVENT:FALSE
SUMMARY:Eastern European Heritage Festival
DESCRIPTION:A weekend celebrating the important contributions of Eastern Europeans  to Deerfield and the surrounding area. The event will feature polka music by the Eddie Forman Orchestra. There will be Polish items for sale\, family art activities\, Polish and Ukrainian dancers\, special programs\, food and lots of other attractions.\n\n\n\nHosted by the Pocumtuck Memorial Association\, the Friends of Deerfield\, and the Deerfield 350th Steering Committee.
X-ALT-DESC;FMTTYPE=text/html:A weekend celebrating the important contributions of Eastern Europeans&nbsp\; to Deerfield and the surrounding area. The event will feature polka music by the Eddie Forman Orchestra. There will be Polish items for sale\, family art activities\, Polish and Ukrainian dancers\, special programs\, food and lots of other attractions.<br />\n<br />\nHosted by the Pocumtuck Memorial Association\, the Friends of Deerfield\, and the Deerfield 350th Steering Committee.
LOCATION:10 Memorial Street\, Old Deerfield
UID:e.2182.22209
SEQUENCE:3
DTSTAMP:20260425T012224Z
URL:https://chamber.franklincc.org/events/details/eastern-european-heritage-festival-10-15-2023-22209
END:VEVENT

END:VCALENDAR
