BEGIN:VCALENDAR
VERSION:2.0
PRODID:-//ChamberMaster//Event Calendar 2.0//EN
METHOD:PUBLISH
X-PUBLISHED-TTL:P3D
REFRESH-INTERVAL:P3D
CALSCALE:GREGORIAN
BEGIN:VEVENT
DTSTART:20190712T000000Z
DTEND:20190712T020000Z
X-MICROSOFT-CDO-ALLDAYEVENT:FALSE
SUMMARY:Drag Queen Bingo
DESCRIPTION:Join Jenayah and Liz every second Thursday.
X-ALT-DESC;FMTTYPE=text/html:Join Jenayah and Liz every second Thursday.
LOCATION:Hawks & Reed Performing Arts Center\, 289 Main Street\, Greenfield
UID:e.2182.13176
SEQUENCE:3
DTSTAMP:20260424T100144Z
URL:https://chamber.franklincc.org/events/details/drag-queen-bingo-07-11-2019-13176
END:VEVENT

END:VCALENDAR
