BEGIN:VCALENDAR
VERSION:2.0
PRODID:-//ChamberMaster//Event Calendar 2.0//EN
METHOD:PUBLISH
X-PUBLISHED-TTL:P3D
REFRESH-INTERVAL:P3D
CALSCALE:GREGORIAN
BEGIN:VEVENT
DTSTART:20210218T170000Z
DTEND:20210218T180000Z
X-MICROSOFT-CDO-ALLDAYEVENT:FALSE
SUMMARY:Dr. Ron Stewart "Black History Month"
DESCRIPTION:Dr. Ron Stewart\, Chair and professor of sociology\, holds a succession of degrees that laid the foundation for his career-long research focused on the social and economic conditions confronting African American males in U.S. society. His book\, African American Husbands: A Study of Black Family Life\, is a publication related to his research interests\, as is his recent publication\, "The Declining Significance of Black Male Employment: Gendered Racism of Black Men in Corporate America."\n\nA regular presenter at national conferences\, Dr. Stewart has also served on the organizing committee for a national conference and workshop on constructing progressive definitions of Black masculinity. He is the founder of the African American Male Empowering Network (AAMEN) at Buffalo State\, a support group for African American males that assists them in navigating both academic and nonacademic issues in pursuing their bachelor's degrees.\n\nHe holds an associate of arts degree in sociology from Bishop State Community College\, a bachelor of science degree in sociology from Tuskegee University\, and two masters of arts degrees\, one in sociology\, one in African-American studies\, from The Ohio State University. He earned a doctor of philosophy degree in sociology from Howard University in 1990\, joining the Buffalo State faculty that fall. He was promoted to professor in 2006. Courses he has taught include Introduction to Sociology\, Social Problems\, Sociology of the Family\, The African American Family in the U.S.\, Research Methods\, Classical Sociological Theory\, Sociology of Sports\, Race and Ethnic Relations\, and Seminar on the African American Male.\n\nEvent by GCC Student Activities & Community Service\, Greenfield Community College and Mary McEntee
X-ALT-DESC;FMTTYPE=text/html:<div class="kvgmc6g5 cxmmr5t8 oygrvhab hcukyx3x c1et5uql" style="overflow-wrap: break-word\; margin: 0px\; font-family: &quot\;Segoe UI Historic&quot\;\, &quot\;Segoe UI&quot\;\, Helvetica\, Arial\, sans-serif\; color: rgb(5\, 5\, 5)\; font-size: 15px\; animation-name: none !important\; transition-property: none !important\;">Dr. Ron Stewart\, Chair and professor of sociology\, holds a succession of degrees that laid the foundation for his career-long research focused on the social and economic conditions confronting African American males in U.S. society. His book\, African American Husbands: A Study of Black Family Life\, is a publication related to his research interests\, as is his recent publication\, &ldquo\;The Declining Significance of Black Male Employment: Gendered Racism of Black Men in Corporate America.&rdquo\;</div>\n\n<div class="o9v6fnle cxmmr5t8 oygrvhab hcukyx3x c1et5uql" style="overflow-wrap: break-word\; margin: 0.5em 0px 0px\; font-family: &quot\;Segoe UI Historic&quot\;\, &quot\;Segoe UI&quot\;\, Helvetica\, Arial\, sans-serif\; color: rgb(5\, 5\, 5)\; font-size: 15px\; animation-name: none !important\; transition-property: none !important\;">A regular presenter at national conferences\, Dr. Stewart has also served on the organizing committee for a national conference and workshop on constructing progressive definitions of Black masculinity. He is the founder of the African American Male Empowering Network (AAMEN) at Buffalo State\, a support group for African American males that assists them in navigating both academic and nonacademic issues in pursuing their bachelor&rsquo\;s degrees.</div>\n\n<div class="o9v6fnle cxmmr5t8 oygrvhab hcukyx3x c1et5uql" style="overflow-wrap: break-word\; margin: 0.5em 0px 0px\; font-family: &quot\;Segoe UI Historic&quot\;\, &quot\;Segoe UI&quot\;\, Helvetica\, Arial\, sans-serif\; color: rgb(5\, 5\, 5)\; font-size: 15px\; animation-name: none !important\; transition-property: none !important\;">He holds an associate of arts degree in sociology from Bishop State Community College\, a bachelor of science degree in sociology from Tuskegee University\, and two masters of arts degrees\, one in sociology\, one in African-American studies\, from The Ohio State University. He earned a doctor of philosophy degree in sociology from Howard University in 1990\, joining the Buffalo State faculty that fall. He was promoted to professor in 2006. Courses he has taught include Introduction to Sociology\, Social Problems\, Sociology of the Family\, The African American Family in the U.S.\, Research Methods\, Classical Sociological Theory\, Sociology of Sports\, Race and Ethnic Relations\, and Seminar on the African American Male.<br />\n<span style="color: rgb(5\, 5\, 5)\; font-family: &quot\;Segoe UI Historic&quot\;\, &quot\;Segoe UI&quot\;\, Helvetica\, Arial\, sans-serif\; font-size: 15px\;">Event by&nbsp\;</span><span style="font-weight: 600\; color: rgb(5\, 5\, 5)\; font-family: &quot\;Segoe UI Historic&quot\;\, &quot\;Segoe UI&quot\;\, Helvetica\, Arial\, sans-serif\; font-size: 15px\; animation-name: none !important\; transition-property: none !important\;"><a class="oajrlxb2 g5ia77u1 qu0x051f esr5mh6w e9989ue4 r7d6kgcz rq0escxv nhd2j8a9 nc684nl6 p7hjln8o kvgmc6g5 cxmmr5t8 oygrvhab hcukyx3x jb3vyjys rz4wbd8a qt6c0cv9 a8nywdso i1ao9s8h esuyzwwr f1sip0of lzcic4wl oo9gr5id gpro0wi8 lrazzd5p" href="https://www.facebook.com/GCCActivitiesCommunityService/" role="link" style="color: var(--primary-text)\; cursor: pointer\; text-decoration-line: none\; outline: none\; list-style: none\; border-width: 0px\; border-style: initial\; border-color: initial\; padding: 0px\; margin: 0px\; touch-action: manipulation\; background-color: transparent\; text-align: inherit\; display: inline\; -webkit-tap-highlight-color: transparent\; box-sizing: border-box\; font-family: inherit\; animation-name: none !important\; transition-property: none !important\;" tabindex="0">GCC Student Activities &amp\; Community Service</a></span><span style="color: rgb(5\, 5\, 5)\; font-family: &quot\;Segoe UI Historic&quot\;\, &quot\;Segoe UI&quot\;\, Helvetica\, Arial\, sans-serif\; font-size: 15px\;">\,&nbsp\;</span><span style="font-weight: 600\; color: rgb(5\, 5\, 5)\; font-family: &quot\;Segoe UI Historic&quot\;\, &quot\;Segoe UI&quot\;\, Helvetica\, Arial\, sans-serif\; font-size: 15px\; animation-name: none !important\; transition-property: none !important\;"><a class="oajrlxb2 g5ia77u1 qu0x051f esr5mh6w e9989ue4 r7d6kgcz rq0escxv nhd2j8a9 nc684nl6 p7hjln8o kvgmc6g5 cxmmr5t8 oygrvhab hcukyx3x jb3vyjys rz4wbd8a qt6c0cv9 a8nywdso i1ao9s8h esuyzwwr f1sip0of lzcic4wl oo9gr5id gpro0wi8 lrazzd5p" href="https://www.facebook.com/greenfieldcc/" role="link" style="color: var(--primary-text)\; cursor: pointer\; text-decoration-line: none\; outline: none\; list-style: none\; border-width: 0px\; border-style: initial\; border-color: initial\; padding: 0px\; margin: 0px\; touch-action: manipulation\; background-color: transparent\; text-align: inherit\; display: inline\; -webkit-tap-highlight-color: transparent\; box-sizing: border-box\; font-family: inherit\; animation-name: none !important\; transition-property: none !important\;" tabindex="0">Greenfield Community College</a></span><span style="color: rgb(5\, 5\, 5)\; font-family: &quot\;Segoe UI Historic&quot\;\, &quot\;Segoe UI&quot\;\, Helvetica\, Arial\, sans-serif\; font-size: 15px\;">&nbsp\;and&nbsp\;</span><span style="font-weight: 600\; color: rgb(5\, 5\, 5)\; font-family: &quot\;Segoe UI Historic&quot\;\, &quot\;Segoe UI&quot\;\, Helvetica\, Arial\, sans-serif\; font-size: 15px\; animation-name: none !important\; transition-property: none !important\;"><a class="oajrlxb2 g5ia77u1 qu0x051f esr5mh6w e9989ue4 r7d6kgcz rq0escxv nhd2j8a9 nc684nl6 p7hjln8o kvgmc6g5 cxmmr5t8 oygrvhab hcukyx3x jb3vyjys rz4wbd8a qt6c0cv9 a8nywdso i1ao9s8h esuyzwwr f1sip0of lzcic4wl oo9gr5id gpro0wi8 lrazzd5p" href="https://www.facebook.com/mary.mcentee.31" role="link" style="color: var(--primary-text)\; cursor: pointer\; text-decoration-line: none\; outline: none\; list-style: none\; border-width: 0px\; border-style: initial\; border-color: initial\; padding: 0px\; margin: 0px\; touch-action: manipulation\; background-color: transparent\; text-align: inherit\; display: inline\; -webkit-tap-highlight-color: transparent\; box-sizing: border-box\; font-family: inherit\; animation-name: none !important\; transition-property: none !important\;" tabindex="0">Mary McEntee</a></span></div>\n
LOCATION:
UID:e.2182.17805
SEQUENCE:3
DTSTAMP:20260420T142209Z
URL:https://chamber.franklincc.org/events/details/dr-ron-stewart-black-history-month-17805
END:VEVENT

END:VCALENDAR
