BEGIN:VCALENDAR
VERSION:2.0
PRODID:-//ChamberMaster//Event Calendar 2.0//EN
METHOD:PUBLISH
X-PUBLISHED-TTL:P3D
REFRESH-INTERVAL:P3D
CALSCALE:GREGORIAN
BEGIN:VEVENT
DTSTART:20230909T170000Z
DTEND:20230909T190000Z
X-MICROSOFT-CDO-ALLDAYEVENT:FALSE
SUMMARY:Dog Day of Summer
DESCRIPTION:Does your pooch love a walk in the park? Join the puppy parade on this guided interpretive hike while seeing great sights and learning about how your dog experiences nature. Options for an easy hike of one hour or a moderate hike of 1.5 to 2 hours. Leashes and waste bags required.
X-ALT-DESC;FMTTYPE=text/html:<span style="color:windowtext"><span style="font-family:georgia\,serif"><span style="font-size:11.0pt">Does your pooch love a walk in the park? Join the puppy parade on this guided interpretive hike while seeing great sights and learning about how your dog experiences nature. Options for an easy hike of one hour or a moderate hike of 1.5 to 2 hours. <em>Leashes and waste bags required. </em></span></span></span>
LOCATION:Nature Center at Mohawk Trail State Forest\, Charlemont\, MA.
UID:e.2182.22174
SEQUENCE:3
DTSTAMP:20260425T011201Z
URL:https://chamber.franklincc.org/events/details/dog-day-of-summer-22174
END:VEVENT

END:VCALENDAR
