BEGIN:VCALENDAR
VERSION:2.0
PRODID:-//ChamberMaster//Event Calendar 2.0//EN
METHOD:PUBLISH
X-PUBLISHED-TTL:P3D
REFRESH-INTERVAL:P3D
CALSCALE:GREGORIAN
BEGIN:VEVENT
DTSTART:20250711T143000Z
DTEND:20250711T153000Z
X-MICROSOFT-CDO-ALLDAYEVENT:FALSE
SUMMARY:Dino Trail Week: Dinosaur Kidleidoscope Story Hour
DESCRIPTION:Learn about giant creatures from the past that roamed the Connecticut River Valley. Program includes a story\, activities\, and crafts. Activities are indoors and outdoors\, weather permitting. For ages 3-6\, accompanied by an adult. Siblings and friends welcome. Meet in the Great Hall.\n\n\n\nDino Trail Week is a celebratory week of performances\, films\, talks\, exhibits\, and activities inspired by dinosaur footprints in the Connecticut River Valley. Look for events from all of our partners during Dino Trail Week: Friends of the Great Falls Discovery Center\, the Pocumtuck Valley Memorial Association\, Piti Theatre\, the Beneski Museum\, the Trustees of Reservations\, Springfield Science Museum\, Wistariahurst\, and the Franklin County Chamber of Commerce. Learn more at: dinotrail.org.
X-ALT-DESC;FMTTYPE=text/html:Learn about giant creatures from the past that roamed the Connecticut River Valley. Program includes a story\, activities\, and crafts. Activities are indoors and outdoors\, weather permitting. For ages 3-6\, accompanied by an adult. Siblings and friends welcome. Meet in the Great Hall.<br />\n<br />\nDino Trail Week is a celebratory week of performances\, films\, talks\, exhibits\, and activities inspired by dinosaur footprints in the Connecticut River Valley. Look for events from all of our partners during Dino Trail Week: Friends of the Great Falls Discovery Center\, the Pocumtuck Valley Memorial Association\, Piti Theatre\, the Beneski Museum\, the Trustees of Reservations\, Springfield Science Museum\, Wistariahurst\, and the Franklin County Chamber of Commerce. Learn more at: <a href="http://www.dinotrail.org." target="_blank">dinotrail.org.</a><br />\n
LOCATION:Great Falls Discovery Center 2 Avenue A Turners Falls\, MA
UID:e.2182.24875
SEQUENCE:3
DTSTAMP:20260424T001322Z
URL:https://chamber.franklincc.org/events/details/dino-trail-week-dinosaur-kidleidoscope-story-hour-24875
END:VEVENT

END:VCALENDAR
