BEGIN:VCALENDAR
VERSION:2.0
PRODID:-//ChamberMaster//Event Calendar 2.0//EN
METHOD:PUBLISH
X-PUBLISHED-TTL:P3D
REFRESH-INTERVAL:P3D
CALSCALE:GREGORIAN
BEGIN:VEVENT
DTSTART:20250718T223000Z
DTEND:20250719T000000Z
X-MICROSOFT-CDO-ALLDAYEVENT:FALSE
SUMMARY:Deerfield Recreation Summer Concert Series
DESCRIPTION:Featuring  Foolish U.\n\n\n\nBring your chairs and blankets. No pets allowed.
X-ALT-DESC;FMTTYPE=text/html:Featuring&nbsp\; Foolish U.<br />\n<br />\nBring your chairs and blankets. No pets allowed.
LOCATION:Memorial Field behind Town Hall\, 8 Conway Street (no parking) South Deerfield
UID:e.2182.24853
SEQUENCE:3
DTSTAMP:20260424T001603Z
URL:https://chamber.franklincc.org/events/details/deerfield-recreation-summer-concerts-series-07-18-2025-24853
END:VEVENT

END:VCALENDAR
