BEGIN:VCALENDAR
VERSION:2.0
PRODID:-//ChamberMaster//Event Calendar 2.0//EN
METHOD:PUBLISH
X-PUBLISHED-TTL:P3D
REFRESH-INTERVAL:P3D
CALSCALE:GREGORIAN
BEGIN:VEVENT
DTSTART:20250829T223000Z
DTEND:20250830T000000Z
X-MICROSOFT-CDO-ALLDAYEVENT:FALSE
SUMMARY:Deerfield Recreation Summer Concert Series
DESCRIPTION:Featuring Chick "N" Wire.\n\n\n\nBring your chairs and blankets. No pets allowed.
X-ALT-DESC;FMTTYPE=text/html:Featuring Chick &quot\;N&quot\; Wire.<br />\n<br />\nBring your chairs and blankets. No pets allowed.
LOCATION:Memorial Field behind Town Hall\, 8 Conway Street (no parking) South Deerfield
UID:e.2182.24857
SEQUENCE:3
DTSTAMP:20260424T013618Z
URL:https://chamber.franklincc.org/events/details/deerfield-recreation-summer-concert-series-24857
END:VEVENT

END:VCALENDAR
