BEGIN:VCALENDAR
VERSION:2.0
PRODID:-//ChamberMaster//Event Calendar 2.0//EN
METHOD:PUBLISH
X-PUBLISHED-TTL:P3D
REFRESH-INTERVAL:P3D
CALSCALE:GREGORIAN
BEGIN:VEVENT
DTSTART:20210216T140000Z
DTEND:20210216T160000Z
X-MICROSOFT-CDO-ALLDAYEVENT:FALSE
SUMMARY:Dakin's Curbside Vaccine Clinic
DESCRIPTION:Dakin Humane Society will be hosting curbside vaccine clinics by appointment only on specific dates at our Springfield Animal Resource Center. Spaces fill very quickly - reserve your time slot today - https://app.acuityscheduling.com/schedule.php...\n\nA reserved time slot is required to attend this event. The cost to reserve a ticket is free. The cost for services is listed below.\n\nServices offered:\n\nRabies Vaccine: $20\n\nParvo Vaccine (dog series): $20\n\nFVRCP Vaccine (cat series): $20\n\nMicrochip: $22\n\nDewormer (Pyrantel): $15\n\nParadefense for Dogs $30 for 4pk (flea and tick prevention)\n\nParadefense for Cats $25 for 4pk (flea and tick prevention)\n\nExam: fee waived\n\nWe can accept cash and credit cards only. No checks.\n\nServices NOT offered at the curbside clinic:\n\nHeartworm test\n\nHeartworm prevention\n\nNail trims\n\nSick pet exams\n\nNo additional services will be offered. This clinic is for HEALTHY cats and dogs only.\n\nAdditional details:\n\nIn order to provide a contact-less service\, you will be asked to wait for your appointment in your car. Only pets will be permitted inside the building during their appointment.\n\nDogs must be on a leash.\n\nCats must be in a carrier.\n\nBring previous vaccine records with you.\n\nAll clients and staff must wear face coverings and adhere to social distancing policies.\n\nPlease do not come to the clinic if you\, or anyone in your household\, is experiencing symptoms of Covid-19.\n\nIf you wish to bring more than one pet\, please indicate this when reserving a ticket. You can bring a maximum of three pets per appointment.
X-ALT-DESC;FMTTYPE=text/html:<div class="kvgmc6g5 cxmmr5t8 oygrvhab hcukyx3x c1et5uql" style="overflow-wrap: break-word\; margin: 0px\; font-family: &quot\;Segoe UI Historic&quot\;\, &quot\;Segoe UI&quot\;\, Helvetica\, Arial\, sans-serif\; color: rgb(5\, 5\, 5)\; font-size: 15px\; animation-name: none !important\; transition-property: none !important\;">Dakin Humane Society will be hosting curbside vaccine clinics by appointment only on specific dates at our Springfield Animal Resource Center. Spaces fill very quickly - reserve your time slot today -&nbsp\;<a class="oajrlxb2 g5ia77u1 qu0x051f esr5mh6w e9989ue4 r7d6kgcz rq0escxv nhd2j8a9 nc684nl6 p7hjln8o kvgmc6g5 cxmmr5t8 oygrvhab hcukyx3x jb3vyjys rz4wbd8a qt6c0cv9 a8nywdso i1ao9s8h esuyzwwr f1sip0of lzcic4wl py34i1dx gpro0wi8" href="https://app.acuityscheduling.com/schedule.php?owner=20691858&amp\;calendarID=4984770&amp\;fbclid=IwAR0sGH5SrVcmcwvyTpiv9CpzqQznaKOHm3PlDlkuYNRBY-9O8CzivZ3PpH0" rel="nofollow noopener" role="link" style="color: var(--blue-link)\; cursor: pointer\; text-decoration-line: none\; outline: none\; list-style: none\; border-width: 0px\; border-style: initial\; border-color: initial\; padding: 0px\; margin: 0px\; touch-action: manipulation\; background-color: transparent\; text-align: inherit\; display: inline\; -webkit-tap-highlight-color: transparent\; box-sizing: border-box\; font-family: inherit\; animation-name: none !important\; transition-property: none !important\;" tabindex="0" target="_blank">https://app.acuityscheduling.com/schedule.php...</a></div>\n\n<div class="o9v6fnle cxmmr5t8 oygrvhab hcukyx3x c1et5uql" style="overflow-wrap: break-word\; margin: 0.5em 0px 0px\; font-family: &quot\;Segoe UI Historic&quot\;\, &quot\;Segoe UI&quot\;\, Helvetica\, Arial\, sans-serif\; color: rgb(5\, 5\, 5)\; font-size: 15px\; animation-name: none !important\; transition-property: none !important\;">A reserved time slot is required to attend this event. The cost to reserve a ticket is free. The cost for services is listed below.</div>\n\n<div class="o9v6fnle cxmmr5t8 oygrvhab hcukyx3x c1et5uql" style="overflow-wrap: break-word\; margin: 0.5em 0px 0px\; font-family: &quot\;Segoe UI Historic&quot\;\, &quot\;Segoe UI&quot\;\, Helvetica\, Arial\, sans-serif\; color: rgb(5\, 5\, 5)\; font-size: 15px\; animation-name: none !important\; transition-property: none !important\;">Services offered:</div>\n\n<div class="o9v6fnle cxmmr5t8 oygrvhab hcukyx3x c1et5uql" style="overflow-wrap: break-word\; margin: 0.5em 0px 0px\; font-family: &quot\;Segoe UI Historic&quot\;\, &quot\;Segoe UI&quot\;\, Helvetica\, Arial\, sans-serif\; color: rgb(5\, 5\, 5)\; font-size: 15px\; animation-name: none !important\; transition-property: none !important\;">Rabies Vaccine: $20<br style="animation-name: none !important\; transition-property: none !important\;" />\nParvo Vaccine (dog series): $20<br style="animation-name: none !important\; transition-property: none !important\;" />\nFVRCP Vaccine (cat series): $20<br style="animation-name: none !important\; transition-property: none !important\;" />\nMicrochip: $22<br style="animation-name: none !important\; transition-property: none !important\;" />\nDewormer (Pyrantel): $15<br style="animation-name: none !important\; transition-property: none !important\;" />\nParadefense for Dogs $30 for 4pk (flea and tick prevention)<br style="animation-name: none !important\; transition-property: none !important\;" />\nParadefense for Cats $25 for 4pk (flea and tick prevention)<br style="animation-name: none !important\; transition-property: none !important\;" />\nExam: fee waived<br style="animation-name: none !important\; transition-property: none !important\;" />\nWe can accept cash and credit cards only. No checks.</div>\n\n<div class="o9v6fnle cxmmr5t8 oygrvhab hcukyx3x c1et5uql" style="overflow-wrap: break-word\; margin: 0.5em 0px 0px\; font-family: &quot\;Segoe UI Historic&quot\;\, &quot\;Segoe UI&quot\;\, Helvetica\, Arial\, sans-serif\; color: rgb(5\, 5\, 5)\; font-size: 15px\; animation-name: none !important\; transition-property: none !important\;">Services NOT offered at the curbside clinic:<br style="animation-name: none !important\; transition-property: none !important\;" />\nHeartworm test<br style="animation-name: none !important\; transition-property: none !important\;" />\nHeartworm prevention<br style="animation-name: none !important\; transition-property: none !important\;" />\nNail trims<br style="animation-name: none !important\; transition-property: none !important\;" />\nSick pet exams<br style="animation-name: none !important\; transition-property: none !important\;" />\nNo additional services will be offered. This clinic is for HEALTHY cats and dogs only.</div>\n\n<div class="o9v6fnle cxmmr5t8 oygrvhab hcukyx3x c1et5uql" style="overflow-wrap: break-word\; margin: 0.5em 0px 0px\; font-family: &quot\;Segoe UI Historic&quot\;\, &quot\;Segoe UI&quot\;\, Helvetica\, Arial\, sans-serif\; color: rgb(5\, 5\, 5)\; font-size: 15px\; animation-name: none !important\; transition-property: none !important\;">Additional details:</div>\n\n<div class="o9v6fnle cxmmr5t8 oygrvhab hcukyx3x c1et5uql" style="overflow-wrap: break-word\; margin: 0.5em 0px 0px\; font-family: &quot\;Segoe UI Historic&quot\;\, &quot\;Segoe UI&quot\;\, Helvetica\, Arial\, sans-serif\; color: rgb(5\, 5\, 5)\; font-size: 15px\; animation-name: none !important\; transition-property: none !important\;">In order to provide a contact-less service\, you will be asked to wait for your appointment in your car. Only pets will be permitted inside the building during their appointment.<br style="animation-name: none !important\; transition-property: none !important\;" />\nDogs must be on a leash.<br style="animation-name: none !important\; transition-property: none !important\;" />\nCats must be in a carrier.<br style="animation-name: none !important\; transition-property: none !important\;" />\nBring previous vaccine records with you.<br style="animation-name: none !important\; transition-property: none !important\;" />\nAll clients and staff must wear face coverings and adhere to social distancing policies.<br style="animation-name: none !important\; transition-property: none !important\;" />\nPlease do not come to the clinic if you\, or anyone in your household\, is experiencing symptoms of Covid-19.</div>\n\n<div class="o9v6fnle cxmmr5t8 oygrvhab hcukyx3x c1et5uql" style="overflow-wrap: break-word\; margin: 0.5em 0px 0px\; font-family: &quot\;Segoe UI Historic&quot\;\, &quot\;Segoe UI&quot\;\, Helvetica\, Arial\, sans-serif\; color: rgb(5\, 5\, 5)\; font-size: 15px\; animation-name: none !important\; transition-property: none !important\;">If you wish to bring more than one pet\, please indicate this when reserving a ticket. You can bring a maximum of three pets per appointment.</div>\n
LOCATION:
UID:e.2182.17798
SEQUENCE:3
DTSTAMP:20260420T174902Z
URL:https://chamber.franklincc.org/events/details/dakin-s-curbside-vaccine-clinic-17798
END:VEVENT

END:VCALENDAR
