BEGIN:VCALENDAR
VERSION:2.0
PRODID:-//ChamberMaster//Event Calendar 2.0//EN
METHOD:PUBLISH
X-PUBLISHED-TTL:P3D
REFRESH-INTERVAL:P3D
CALSCALE:GREGORIAN
BEGIN:VEVENT
DTSTART:20190711T210000Z
DTEND:20190712T000000Z
X-MICROSOFT-CDO-ALLDAYEVENT:FALSE
SUMMARY:Cruise Night
DESCRIPTION:Enjoy some of Pine Hill's delicious BBQ! Raffles AND of course the one and only DJ BOBBY C will be here spinning all your favorite oldies!!!!!\n\nStop in the Farm Store for some of Pine Hill's Famous Cider Donuts and soooo much more and you will want to stop by the Barnyard to see Kylie the Cow and all of her furry friends!! \n\nWe can't wait to see you all at the Orchard!!! \n\nFrom Our Family to Yours.... Happy Summer and Happy Cruisin'!!!!!!!
X-ALT-DESC;FMTTYPE=text/html:<span style="color: rgb(29\, 33\, 41)\; font-family: Helvetica\, Arial\, sans-serif\; font-size: 14px\; white-space: pre-wrap\;">Enjoy some of Pine Hill&rsquo\;s delicious BBQ! Raffles AND of course the one and only DJ BOBBY C will be here spinning all your favorite oldies!!!!!</span><br style="color: rgb(29\, 33\, 41)\; font-family: Helvetica\, Arial\, sans-serif\; font-size: 14px\; white-space: pre-wrap\;" />\n<span style="color: rgb(29\, 33\, 41)\; font-family: Helvetica\, Arial\, sans-serif\; font-size: 14px\; white-space: pre-wrap\;">Stop in the Farm Store for some of Pine Hill&rsquo\;s Famous Cider Donuts and soooo much more and you will want to stop by the Barnyard to see Kylie the Cow and all of her furry friends!! </span><br style="color: rgb(29\, 33\, 41)\; font-family: Helvetica\, Arial\, sans-serif\; font-size: 14px\; white-space: pre-wrap\;" />\n<span style="color: rgb(29\, 33\, 41)\; font-family: Helvetica\, Arial\, sans-serif\; font-size: 14px\; white-space: pre-wrap\;">We can&rsquo\;t wait to see you all at the Orchard!!! </span><br style="color: rgb(29\, 33\, 41)\; font-family: Helvetica\, Arial\, sans-serif\; font-size: 14px\; white-space: pre-wrap\;" />\n<span style="color: rgb(29\, 33\, 41)\; font-family: Helvetica\, Arial\, sans-serif\; font-size: 14px\; white-space: pre-wrap\;">From Our Family to Yours.... Happy Summer and Happy Cruisin&rsquo\;!!!!!!! </span>
LOCATION:Pine Hill Orchards 248 Greenfield Road\, Colrain
UID:e.2182.15461
SEQUENCE:3
DTSTAMP:20260419T212704Z
URL:https://chamber.franklincc.org/events/details/cruise-night-15461
END:VEVENT

END:VCALENDAR
