BEGIN:VCALENDAR
VERSION:2.0
PRODID:-//ChamberMaster//Event Calendar 2.0//EN
METHOD:PUBLISH
X-PUBLISHED-TTL:P3D
REFRESH-INTERVAL:P3D
CALSCALE:GREGORIAN
BEGIN:VEVENT
DTSTART:20231119T003000Z
DTEND:20231119T023000Z
X-MICROSOFT-CDO-ALLDAYEVENT:FALSE
SUMMARY:Crouching Tiger\, Hidden Dragon - Pothole Pictures 2023-24 Film Season
DESCRIPTION:Pothole Pictures 2023-24 Film Season Crouching Tiger\, Hidden Dragon The epic story in Crouching Tiger is mostly secondary to brilliantly staged martial arts battles that are exciting\, balletic\, and visually stunning. You don't have to be even slightly interested in martial arts to be awed and entranced by the skill of Director Ang Lee. Roger Ebert said the film "transcends its origins and becomes one of a kind. It's glorious\, unashamed escapism and surprisingly touching ". The New York Times called it an "unlikely masterpiece." You won't disagree. 2000. Chow Yun Fat\, Michelle Yeoh. Director: Ang Lee. Color. PG-13 Pothole Pictures Pre-Film Music: 7 pm: Crouching Fiddle\, Hidden Banjo   Traditional Irish Acoustic
X-ALT-DESC;FMTTYPE=text/html:Pothole Pictures 2023-24 Film Season Crouching Tiger\, Hidden Dragon The epic story in Crouching Tiger is mostly secondary to brilliantly staged martial arts battles that are exciting\, balletic\, and visually stunning. You don&rsquo\;t have to be even slightly interested in martial arts to be awed and entranced by the skill of Director Ang Lee. Roger Ebert said the film &ldquo\;transcends its origins and becomes one of a kind. It&rsquo\;s glorious\, unashamed escapism and surprisingly touching&hellip\;&rdquo\;. The New York Times called it an &ldquo\;unlikely masterpiece.&rdquo\; You won&rsquo\;t disagree. 2000. Chow Yun Fat\, Michelle Yeoh. Director: Ang Lee. Color. PG-13 Pothole Pictures Pre-Film Music: 7 pm: Crouching Fiddle\, Hidden Banjo &mdash\; Traditional Irish Acoustic
LOCATION:Shelburne Falls Memorial Hall 51 Bridge Street\, Shelburne Falls\, MA 01370
UID:e.2182.22291
SEQUENCE:3
DTSTAMP:20260424T224650Z
URL:https://chamber.franklincc.org/events/details/crouching-tiger-hidden-dragon-pothole-pictures-2023-24-film-season-11-18-2023-22291
END:VEVENT

END:VCALENDAR
