BEGIN:VCALENDAR
VERSION:2.0
PRODID:-//ChamberMaster//Event Calendar 2.0//EN
METHOD:PUBLISH
X-PUBLISHED-TTL:P3D
REFRESH-INTERVAL:P3D
CALSCALE:GREGORIAN
BEGIN:VEVENT
DTSTART:20250622T160000Z
DTEND:20250622T220000Z
X-MICROSOFT-CDO-ALLDAYEVENT:FALSE
SUMMARY:Cousins Maine Lobster & Music by Woody from Rebel Alliance (solo)
DESCRIPTION:Cousins Maine Lobster serves up delicious food on Sunday 6/22 at INCANDESCENT BREWING in Bernardston! and LIVE MUSIC with Mike "Woody" Wood. Woody was born in the Berkshire Hills of Massachusetts. A lifelong entertainer and lover of a good time\, he is best known for his work with his reggae-jam-rock band\, "Woody and the Rebel Alliance". His solo performances are a high energy mix of old classics\, to obscure covers and the occasional original song. A typical set could see him go from country\, to rock\, to reggae\, to pop\, to soul\, and everywhere in between. It's going to be a big time on Sunday!
X-ALT-DESC;FMTTYPE=text/html:Cousins Maine Lobster serves up delicious food on Sunday 6/22 at INCANDESCENT BREWING in Bernardston! and LIVE MUSIC with Mike &quot\;Woody&quot\; Wood. Woody was born in the Berkshire Hills of Massachusetts. A lifelong entertainer and lover of a good time\, he is best known for his work with his reggae-jam-rock band\, &quot\;Woody and the Rebel Alliance&quot\;. His solo performances are a high energy mix of old classics\, to obscure covers and the occasional original song. A typical set could see him go from country\, to rock\, to reggae\, to pop\, to soul\, and everywhere in between. It&#39\;s going to be a big time on Sunday!
LOCATION:Incandescent Brewing 203 South Street Bernardston MA 01337 413-648-3172
UID:e.2182.24818
SEQUENCE:3
DTSTAMP:20260423T224828Z
URL:https://chamber.franklincc.org/events/details/cousins-maine-lobster-music-by-woody-from-rebel-alliance-solo-24818
END:VEVENT

END:VCALENDAR
