BEGIN:VCALENDAR
VERSION:2.0
PRODID:-//ChamberMaster//Event Calendar 2.0//EN
METHOD:PUBLISH
X-PUBLISHED-TTL:P3D
REFRESH-INTERVAL:P3D
CALSCALE:GREGORIAN
BEGIN:VEVENT
DTSTART:20251007T170000Z
DTEND:20251007T193000Z
X-MICROSOFT-CDO-ALLDAYEVENT:FALSE
SUMMARY:Counseling\, Government & Criminal Justice Career Fair
DESCRIPTION:Westfield State University's Career Center invites you to attend our "2025 Counseling\, Government & Criminal Justice Career Fair" in the Scanlon Banquet Hall at Westfield State University\, Westfield\, MA\, Tuesday\, October 7\, 2025\, from 1:00-3:30 pm. This fair is offered at no cost for employers. OPEN TO THE PUBLIC AND FREE! To register as an employer\, visit: https://app.joinhandshake.com/careerfairs/9476df6a-3099-4c6f-9db6-f43d8201d3a4/employerpreview For a list of attending agencies\, visit: https://app.joinhandshake.com/careerfairs/9476df6a-3099-4c6f-9db6-f43d8201d3a4/studentpreview
X-ALT-DESC;FMTTYPE=text/html:Westfield State University&#39\;s Career Center invites you to attend our &quot\;2025 Counseling\, Government &amp\; Criminal Justice Career Fair&rdquo\;&nbsp\;in the Scanlon Banquet Hall at Westfield State University\, Westfield\, MA\, Tuesday\, October 7\, 2025\, from 1:00-3:30 pm. This fair is offered at no cost for&nbsp\;employers. OPEN TO THE PUBLIC AND FREE! To register as an employer\, visit: https://app.joinhandshake.com/careerfairs/9476df6a-3099-4c6f-9db6-f43d8201d3a4/employerpreview For a list of attending agencies\, visit: https://app.joinhandshake.com/careerfairs/9476df6a-3099-4c6f-9db6-f43d8201d3a4/studentpreview
LOCATION:Westfield State University - Scanlon Banquet Hall 577 Western Avenue Westfield\, MA 01086
UID:e.2182.24814
SEQUENCE:3
DTSTAMP:20260420T113011Z
URL:https://chamber.franklincc.org/events/details/counseling-government-criminal-justice-career-fair-24814
END:VEVENT

END:VCALENDAR
