BEGIN:VCALENDAR
VERSION:2.0
PRODID:-//ChamberMaster//Event Calendar 2.0//EN
METHOD:PUBLISH
X-PUBLISHED-TTL:P3D
REFRESH-INTERVAL:P3D
CALSCALE:GREGORIAN
BEGIN:VEVENT
DTSTART:20250710T220000Z
DTEND:20250711T000000Z
X-MICROSOFT-CDO-ALLDAYEVENT:FALSE
SUMMARY:COOP Concert Series in the Park
DESCRIPTION:Performers:\n\nThursday\, July 10\n\nPat & Tex LaMountain\n\nAmericana rooted in country\, folk\, rock and swing\n\nJennie McAvoy\n\nSongs from the British Isles\, Ireland\, and America\n\nR & D (Rob Adams and Dennis Avery)\n\nExploring America's musical roots and more\n\nBring chairs or blanket.\n\nThursday\, July 17\, 2025\n\nLarry LeBlanc\n\nFolk\, country and bluegrass with multi-instrumental accompaniment\n\nOrlen\, Gabriel\, & Avery\n\nInfluences of 20th century folk\, blues\, and ragtime music\n\nAustin & Elliott\n\nThursday\, July 24\, 2025\n\nJim Eagan\n\nFingerstyle guitar\, vocals\, folk and folk-blues\n\nThe Klines Band\n\nEvocative\, soul-stirring Appalachian singing in tight harmony\n\nThe Frost Heaves and HaLeS\n\nEclectic rock & freaky folk\n\nThursday\, July 31\, 2025\n\nJohn Stacey & Friends\n\nAcoustic singer/songwriter\, originals and covers\n\nR & D (Rob Adams and Dennis Avery)\n\nExploring America's musical roots and more\n\nLittle Wild Bouquet\n\nOriginals and covers celebrating music of the 60s and 70s\n\nThursday\, August 7\, 2025\n\nDust Devils (Nina Gross & Joe Graveline)\n\nThe sixties meet classical music in the middle\n\nSmall Change\n\nOld-time\, swing\, and novelty tunes\n\nJim Eagan\n\nFingerstyle guitar\, vocals\, folk and folk-blues\n\nThursday\, August 14\, 2025\n\n**RAIN DATE**\n\nThursday\, August 21\, 2025\n\nKathy Sylvester & Stephanie Marshall\n\nOriginal songs and covers\n\nPsychedelic Farm Girls (extended set)\n\nRock\, folk\, and country with a psychedelic flare!\n\nThursday\, August 28\, 2025\n\n**RAIN DATE**
X-ALT-DESC;FMTTYPE=text/html:Performers:<br>\nThursday\, July 10<br>\nPat &amp\; Tex LaMountain<br>\nAmericana rooted in country\, folk\, rock and swing<br>\nJennie McAvoy<br>\nSongs from the British Isles\, Ireland\, and America<br>\nR &amp\; D (Rob Adams and Dennis Avery)<br>\nExploring America's musical roots and more<br>\nBring chairs or blanket.<br>\nThursday\, July 17\, 2025<br>\nLarry LeBlanc<br>\nFolk\, country and bluegrass with multi-instrumental accompaniment<br>\nOrlen\, Gabriel\, &amp\; Avery<br>\nInfluences of 20th century folk\, blues\, and ragtime music<br>\nAustin &amp\; Elliott<br>\nThursday\, July 24\, 2025<br>\nJim Eagan<br>\nFingerstyle guitar\, vocals\, folk and folk-blues<br>\nThe Klines Band<br>\nEvocative\, soul-stirring Appalachian singing in tight harmony<br>\nThe Frost Heaves and HaLeS<br>\nEclectic rock &amp\; freaky folk<br>\nThursday\, July 31\, 2025<br>\nJohn Stacey &amp\; Friends<br>\nAcoustic singer/songwriter\, originals and covers<br>\nR &amp\; D (Rob Adams and Dennis Avery)<br>\nExploring America's musical roots and more<br>\nLittle Wild Bouquet<br>\nOriginals and covers celebrating music of the 60s and 70s<br>\nThursday\, August 7\, 2025<br>\nDust Devils (Nina Gross &amp\; Joe Graveline)<br>\nThe sixties meet classical music in the middle<br>\nSmall Change<br>\nOld-time\, swing\, and novelty tunes<br>\nJim Eagan<br>\nFingerstyle guitar\, vocals\, folk and folk-blues<br>\nThursday\, August 14\, 2025<br>\n**RAIN DATE**<br>\nThursday\, August 21\, 2025<br>\nKathy Sylvester &amp\; Stephanie Marshall<br>\nOriginal songs and covers<br>\nPsychedelic Farm Girls (extended set)<br>\nRock\, folk\, and country with a psychedelic flare!<br>\nThursday\, August 28\, 2025<br>\n**RAIN DATE**
LOCATION:Greenfield Energy Park Miles Street\, Greenfield
UID:e.2182.24842
SEQUENCE:3
DTSTAMP:20260424T001321Z
URL:https://chamber.franklincc.org/events/details/coop-concert-series-in-the-park-24842
END:VEVENT

END:VCALENDAR
