BEGIN:VCALENDAR
VERSION:2.0
PRODID:-//ChamberMaster//Event Calendar 2.0//EN
METHOD:PUBLISH
X-PUBLISHED-TTL:P3D
REFRESH-INTERVAL:P3D
CALSCALE:GREGORIAN
BEGIN:VEVENT
DTSTART:20250703T220000Z
DTEND:20250704T000000Z
X-MICROSOFT-CDO-ALLDAYEVENT:FALSE
SUMMARY:COOP Concert Series in the Park
DESCRIPTION:Performers:\n\nDust Devils (Nina Gross & Joe Graveline)\n\nThe sixties meet classical music in the middle\n\n133 Skeele\n\nAmericana with a twist\n\nThe Brookside Project\n\nAmericana roots string band featuring Roland Lapierre\, Kate Marion Lapierre & Charlie Conant\n\n\n\nBring chairs or blanket.
X-ALT-DESC;FMTTYPE=text/html:Performers:<br />\nDust Devils (Nina Gross &amp\; Joe Graveline)<br />\nThe sixties meet classical music in the middle<br />\n133 Skeele<br />\nAmericana with a twist<br />\nThe Brookside Project<br />\nAmericana roots string band featuring Roland Lapierre\, Kate Marion Lapierre &amp\; Charlie Conant<br />\n<br />\nBring chairs or blanket.
LOCATION:Greenfield Energy Park Miles Street\, Greenfield
UID:e.2182.24841
SEQUENCE:3
DTSTAMP:20260424T001322Z
URL:https://chamber.franklincc.org/events/details/coop-concert-series-in-the-park-24841
END:VEVENT

END:VCALENDAR
