BEGIN:VCALENDAR
VERSION:2.0
PRODID:-//ChamberMaster//Event Calendar 2.0//EN
METHOD:PUBLISH
X-PUBLISHED-TTL:P3D
REFRESH-INTERVAL:P3D
CALSCALE:GREGORIAN
BEGIN:VEVENT
DTSTART:20250807T220000Z
DTEND:20250808T000000Z
X-MICROSOFT-CDO-ALLDAYEVENT:FALSE
SUMMARY:COOP Concert Series in the Park
DESCRIPTION:Performers:\n\nBring chairs and blankets.\n\n\n\nThursday\, August 7\, 2025\n\nDust Devils (Nina Gross & Joe Graveline)\n\nThe sixties meet classical music in the middle\n\nSmall Change\n\nOld-time\, swing\, and novelty tunes\n\nJim Eagan\n\nFingerstyle guitar\, vocals\, folk and folk-blues\n\nThursday\, August 14\, 2025\n\n**RAIN DATE**\n\nThursday\, August 21\, 2025\n\nKathy Sylvester & Stephanie Marshall\n\nOriginal songs and covers\n\nPsychedelic Farm Girls (extended set)\n\nRock\, folk\, and country with a psychedelic flare!\n\nThursday\, August 28\, 2025\n\n**RAIN DATE**
X-ALT-DESC;FMTTYPE=text/html:Performers:<br />\nBring chairs and blankets.<br />\n<br />\nThursday\, August 7\, 2025<br />\nDust Devils (Nina Gross &amp\; Joe Graveline)<br />\nThe sixties meet classical music in the middle<br />\nSmall Change<br />\nOld-time\, swing\, and novelty tunes<br />\nJim Eagan<br />\nFingerstyle guitar\, vocals\, folk and folk-blues<br />\nThursday\, August 14\, 2025<br />\n**RAIN DATE**<br />\nThursday\, August 21\, 2025<br />\nKathy Sylvester &amp\; Stephanie Marshall<br />\nOriginal songs and covers<br />\nPsychedelic Farm Girls (extended set)<br />\nRock\, folk\, and country with a psychedelic flare!<br />\nThursday\, August 28\, 2025<br />\n**RAIN DATE**
LOCATION:Greenfield Energy Park Miles Street\, Greenfield
UID:e.2182.24846
SEQUENCE:3
DTSTAMP:20260424T013742Z
URL:https://chamber.franklincc.org/events/details/coop-concert-series-in-the-park-08-07-2025-24846
END:VEVENT

END:VCALENDAR
