BEGIN:VCALENDAR
VERSION:2.0
PRODID:-//ChamberMaster//Event Calendar 2.0//EN
METHOD:PUBLISH
X-PUBLISHED-TTL:P3D
REFRESH-INTERVAL:P3D
CALSCALE:GREGORIAN
BEGIN:VEVENT
DTSTART:20251005T130000Z
DTEND:20251005T203000Z
X-MICROSOFT-CDO-ALLDAYEVENT:FALSE
SUMMARY:Conway Festival of the Hills
DESCRIPTION:The Festival of the Hills\, one of the Hilltowns' oldest and most beloved fall traditions\, will take place at the town field in historic Conway Center. Enjoy live music\, food vendors\, craft fair\, blacksmithing\, local products\, parade\, art show\, raffle\, and the famed log splitting and skillet toss contests. Lots of children's activities. Admission\, parking\, and most activities are free.\n\nhttps://www.festivalofthehills.com/\n\n\n\nCovered Bridge Classic 10K road race\n\nA challenging and scenic point-to-point course on both pavement and dirt\, the Covered Bridge Classic finish line is in Conway's town center\, where participants can join the Festival fun!\n\nAdvance registrants receive discounted registration fee and race-day swag. See https://www.festivalofthehills.com/road-race/ for race information and registration links. \n\n \n\n\n	9am-3:30pm   Friends of Library Book Sale   Field Memorial Library\n	9am-4pm   Art Exhibit   Field Memorial Library\n	9:15am   UCC Conway Communion Service   Ballfield\n	10am   Covered Bridge Classic 10K Road Race\n	10am-4pm   "The Great Calamity"   history of Conway floods and storms   Historical Society Museum\n	10am-4pm   FESTIVAL INFO BOOTH   Town Hall   Caf  Conway\, merch table\, raffle\, fried dough\, candy\, cider\, donuts\n	11:30am   Logsplitting Contest   Ballfield\n	12pm   Presentation of Tricia Donovan Scholarship   Tennis Courts\n	1pm   PARADE   OESCO through center of town\n	2pm   Skillet Toss   Ballfield\n	4pm   Festival raffle drawing
X-ALT-DESC;FMTTYPE=text/html:<div style="box-sizing: border-box\; border: 0px\; font-style: inherit\; font-weight: inherit\; margin: 0px\; outline: 0px\; padding: 0px\; vertical-align: baseline\;">The Festival of the Hills\, one of the Hilltowns&rsquo\; oldest and most beloved fall traditions\, will take place at the town field in historic Conway Center. Enjoy live music\, food vendors\, craft fair\, blacksmithing\, local products\, parade\, art show\, raffle\, and the famed log splitting and skillet toss contests. Lots of children&rsquo\;s activities. Admission\, parking\, and most activities are free.<br />\n<a href="https://www.festivalofthehills.com/" target="_blank">https://www.festivalofthehills.com/</a><br />\n<br />\n<strong>Covered Bridge Classic 10K road race</strong><br />\nA challenging and scenic point-to-point course on both pavement and dirt\, the Covered Bridge Classic finish line is in Conway&rsquo\;s town center\, where participants can join the Festival fun!<br />\nAdvance registrants receive discounted registration fee and race-day swag. See <a href="https://www.festivalofthehills.com/road-race/" target="_blank">https://www.festivalofthehills.com/road-race/</a> for race information and registration links.&nbsp\;</div>\n\n<div style="box-sizing: border-box\; border: 0px\; font-style: inherit\; font-weight: inherit\; margin: 0px\; outline: 0px\; padding: 0px\; vertical-align: baseline\;">&nbsp\;</div>\n\n<ul style="box-sizing: border-box\; border: 0px\; font-size: 16px\; margin-top: 0px\; margin-right: 0px\; margin-left: 3em\; outline: 0px\; padding-right: 0px\; padding-left: 0px\; vertical-align: baseline\; list-style-position: initial\; list-style-image: initial\; color: rgb(53\, 53\, 53)\; font-family: &quot\;Plus Jakarta Sans&quot\;\, sans-serif\; margin-bottom: 1em !important\;">\n	<li style="box-sizing: border-box\; border: 0px\; font-style: inherit\; font-weight: inherit\; margin: 0px\; outline: 0px\; padding: 0px\; vertical-align: baseline\;"><span style="box-sizing: border-box\; font-weight: 700\;">9am-3:30pm</span>&nbsp\;&ndash\;&nbsp\;<span style="box-sizing: border-box\; font-weight: 700\;">Friends of Library Book Sale</span>&nbsp\;&ndash\; Field Memorial Library</li>\n	<li style="box-sizing: border-box\; border: 0px\; font-style: inherit\; font-weight: inherit\; margin: 0px\; outline: 0px\; padding: 0px\; vertical-align: baseline\;"><span style="box-sizing: border-box\; font-weight: 700\;">9am-4pm</span>&nbsp\;&ndash\;&nbsp\;<span style="box-sizing: border-box\; font-weight: 700\;">Art Exhibit</span>&nbsp\;&ndash\; Field Memorial Library</li>\n	<li style="box-sizing: border-box\; border: 0px\; font-style: inherit\; font-weight: inherit\; margin: 0px\; outline: 0px\; padding: 0px\; vertical-align: baseline\;"><span style="box-sizing: border-box\; font-weight: 700\;">9:15am</span>&nbsp\;&ndash\;&nbsp\;<span style="box-sizing: border-box\; font-weight: 700\;">UCC Conway Communion Service</span>&nbsp\;&ndash\; Ballfield</li>\n	<li style="box-sizing: border-box\; border: 0px\; font-style: inherit\; font-weight: inherit\; margin: 0px\; outline: 0px\; padding: 0px\; vertical-align: baseline\;"><span style="box-sizing: border-box\; font-weight: 700\;">10am</span>&nbsp\;&ndash\;&nbsp\;<span style="box-sizing: border-box\; font-weight: 700\;">Covered Bridge Classic 10K Road Race</span></li>\n	<li style="box-sizing: border-box\; border: 0px\; font-style: inherit\; font-weight: inherit\; margin: 0px\; outline: 0px\; padding: 0px\; vertical-align: baseline\;"><span style="box-sizing: border-box\; font-weight: 700\;">10am-4pm</span>&nbsp\;&ndash\;&nbsp\;<span style="box-sizing: border-box\; font-weight: 700\;">&ldquo\;The Great Calamity&rdquo\;</span>&nbsp\;&ndash\; history of Conway floods and storms &ndash\; Historical Society Museum</li>\n	<li style="box-sizing: border-box\; border: 0px\; font-style: inherit\; font-weight: inherit\; margin: 0px\; outline: 0px\; padding: 0px\; vertical-align: baseline\;"><span style="box-sizing: border-box\; font-weight: 700\;">10am-4pm</span>&nbsp\;&ndash\;&nbsp\;<span style="box-sizing: border-box\; font-weight: 700\;">FESTIVAL INFO BOOTH</span>&nbsp\;&ndash\; Town Hall &ndash\; Caf&eacute\; Conway\, merch table\, raffle\, fried dough\, candy\, cider\, donuts</li>\n	<li style="box-sizing: border-box\; border: 0px\; font-style: inherit\; font-weight: inherit\; margin: 0px\; outline: 0px\; padding: 0px\; vertical-align: baseline\;"><span style="box-sizing: border-box\; font-weight: 700\;">11:30am</span>&nbsp\;&ndash\;&nbsp\;<span style="box-sizing: border-box\; font-weight: 700\;">Logsplitting Contest</span>&nbsp\;&ndash\; Ballfield</li>\n	<li style="box-sizing: border-box\; border: 0px\; font-style: inherit\; font-weight: inherit\; margin: 0px\; outline: 0px\; padding: 0px\; vertical-align: baseline\;"><span style="box-sizing: border-box\; font-weight: 700\;">12pm</span>&nbsp\;&ndash\;&nbsp\;<span style="box-sizing: border-box\; font-weight: 700\;">Presentation of Tricia Donovan Scholarship</span>&nbsp\;&ndash\; Tennis Courts</li>\n	<li style="box-sizing: border-box\; border: 0px\; font-style: inherit\; font-weight: inherit\; margin: 0px\; outline: 0px\; padding: 0px\; vertical-align: baseline\;"><span style="box-sizing: border-box\; font-weight: 700\;">1pm</span>&nbsp\;&ndash\;&nbsp\;<span style="box-sizing: border-box\; font-weight: 700\;">PARADE</span>&nbsp\;&ndash\; OESCO through center of town</li>\n	<li style="box-sizing: border-box\; border: 0px\; font-style: inherit\; font-weight: inherit\; margin: 0px\; outline: 0px\; padding: 0px\; vertical-align: baseline\;"><span style="box-sizing: border-box\; font-weight: 700\;">2pm</span>&nbsp\;&ndash\;&nbsp\;<span style="box-sizing: border-box\; font-weight: 700\;">Skillet Toss</span>&nbsp\;&ndash\; Ballfield</li>\n	<li style="box-sizing: border-box\; border: 0px\; font-style: inherit\; font-weight: inherit\; margin: 0px\; outline: 0px\; padding: 0px\; vertical-align: baseline\;"><span style="box-sizing: border-box\; font-weight: 700\;">4pm</span>&nbsp\;&ndash\;&nbsp\;<span style="box-sizing: border-box\; font-weight: 700\;">Festival raffle drawing</span></li>\n</ul>\n
LOCATION:Conway
UID:e.2182.25163
SEQUENCE:3
DTSTAMP:20260420T114307Z
URL:https://chamber.franklincc.org/events/details/conway-festival-of-the-hills-25163
END:VEVENT

END:VCALENDAR
