BEGIN:VCALENDAR
VERSION:2.0
PRODID:-//ChamberMaster//Event Calendar 2.0//EN
METHOD:PUBLISH
X-PUBLISHED-TTL:P3D
REFRESH-INTERVAL:P3D
CALSCALE:GREGORIAN
BEGIN:VEVENT
DTSTART:20170621T200000Z
DTEND:20170621T230000Z
X-MICROSOFT-CDO-ALLDAYEVENT:FALSE
SUMMARY:Conway Farmers Market
DESCRIPTION:Fresh locally grown produce\, jams\, maple syrup\, crafts and more!
X-ALT-DESC;FMTTYPE=text/html:&nbsp\;Fresh locally grown produce\, jams\, maple syrup\, crafts and more!
LOCATION:Town Common\, on Elm Street in front of Field Memorial Library in Conway
UID:e.2182.8018
SEQUENCE:3
DTSTAMP:20260421T153957Z
URL:https://chamber.franklincc.org/events/details/conway-farmers-market-06-21-2017-8018
END:VEVENT

END:VCALENDAR
