BEGIN:VCALENDAR
VERSION:2.0
PRODID:-//ChamberMaster//Event Calendar 2.0//EN
METHOD:PUBLISH
X-PUBLISHED-TTL:P3D
REFRESH-INTERVAL:P3D
CALSCALE:GREGORIAN
BEGIN:VEVENT
DTSTART:20250702T143000Z
DTEND:20250702T153000Z
X-MICROSOFT-CDO-ALLDAYEVENT:FALSE
SUMMARY:Concert - "Of Thee I Sing"
DESCRIPTION:Featuring Tinky Weisblat and composer/pianist Jerry Noble. Preview program of all-American songs to preview Independence Day. The program will include war songs\, from "Yankee Doodle" to "Over There\," along with a spiritual or two and classic folk songs. It will end with a sing-along.\n\n\n\nThis free program is sponsored by the Charlemont Hawley Senior Center and the Charlemont-Hawley Council on Arts.
X-ALT-DESC;FMTTYPE=text/html:Featuring Tinky Weisblat and composer/pianist Jerry Noble. Preview program of all-American songs to preview Independence Day. The program will include war songs\, from &quot\;Yankee Doodle&quot\; to &quot\;Over There\,&quot\; along with a spiritual or two and classic folk songs. It will end with a sing-along.<br />\n<br />\nThis free program is sponsored by the Charlemont Hawley Senior Center and the Charlemont-Hawley Council on Arts.
LOCATION:Federated Church Main Street\, Charlemont
UID:e.2182.24823
SEQUENCE:3
DTSTAMP:20260424T001239Z
URL:https://chamber.franklincc.org/events/details/concert-of-thee-i-sing-24823
END:VEVENT

END:VCALENDAR
