BEGIN:VCALENDAR
VERSION:2.0
PRODID:-//ChamberMaster//Event Calendar 2.0//EN
METHOD:PUBLISH
X-PUBLISHED-TTL:P3D
REFRESH-INTERVAL:P3D
CALSCALE:GREGORIAN
BEGIN:VEVENT
DTSTART:20230306T230000Z
DTEND:20230307T000000Z
X-MICROSOFT-CDO-ALLDAYEVENT:FALSE
SUMMARY:Community Concert by Musica Franklin
DESCRIPTION:Join M sica Franklin for a staff and student performance in honor of Women's History Month. This family-friendly concert will feature music by Sister Rosetta Tharpe\, Natalie Cole\, Ruth Schontal\, and Camila Cabello. This concert will take place at Sheffield Elementary School (43 Crocker Ave\, Turners Falls) and is free and open to the public. This event is sponsored in part by the Montague and Gill Local Cultural Councils.
X-ALT-DESC;FMTTYPE=text/html:Join M&uacute\;sica Franklin for a staff and student performance in honor of Women&rsquo\;s History Month. This family-friendly concert will feature music by Sister Rosetta Tharpe\, Natalie Cole\, Ruth Schontal\, and Camila Cabello. This concert will take place at Sheffield Elementary School (43 Crocker Ave\, Turners Falls) and is free and open to the public. This event is sponsored in part by the Montague and Gill Local Cultural Councils.
LOCATION:Sheffield Elementary School 43 Crocker Avenue\, Turners Falls
UID:e.2182.19477
SEQUENCE:3
DTSTAMP:20260424T215311Z
URL:https://chamber.franklincc.org/events/details/community-concert-by-musica-franklin-19477
END:VEVENT

END:VCALENDAR
