BEGIN:VCALENDAR
VERSION:2.0
PRODID:-//ChamberMaster//Event Calendar 2.0//EN
METHOD:PUBLISH
X-PUBLISHED-TTL:P3D
REFRESH-INTERVAL:P3D
CALSCALE:GREGORIAN
BEGIN:VEVENT
DTSTART:20230924T130000Z
DTEND:20230924T200000Z
X-MICROSOFT-CDO-ALLDAYEVENT:FALSE
SUMMARY:Colrain on Canvas An Art Show
DESCRIPTION:Art from our neighboring hilltowns will be part of the display. Regionally famous painters will include George Gardner Symons\, Steve Mniatty\, Robert Strong Woodward\, W. Lester Stevens\, Edwin Lorenzo Elmer\, and A. Hale Johnson among others. A special feature of paintings by Judith Russell. Benefit for the Colrain Historical Society.
X-ALT-DESC;FMTTYPE=text/html:<span style="color: rgb(29\, 33\, 41)\; font-family: Helvetica\, Arial\, sans-serif\; font-size: 14px\; white-space: pre-wrap\;">Art from our neighboring hilltowns will be part of the display. Regionally famous painters will include George Gardner Symons\, Steve Mniatty\, Robert Strong Woodward\, W. Lester Stevens\, Edwin Lorenzo Elmer\, and A. Hale Johnson among others. A special feature of paintings by Judith Russell. Benefit for the Colrain Historical Society. </span>
LOCATION:Shelburne-Buckland Community Center 53 Main St\, Shelburne Falls
UID:e.2182.20345
SEQUENCE:3
DTSTAMP:20260425T011258Z
URL:https://chamber.franklincc.org/events/details/colrain-on-canvas-an-art-show-09-24-2023-20345
END:VEVENT

END:VCALENDAR
