BEGIN:VCALENDAR
VERSION:2.0
PRODID:-//ChamberMaster//Event Calendar 2.0//EN
METHOD:PUBLISH
X-PUBLISHED-TTL:P3D
REFRESH-INTERVAL:P3D
CALSCALE:GREGORIAN
BEGIN:VEVENT
DTSTART:20250103T170000Z
DTEND:20250103T183000Z
X-MICROSOFT-CDO-ALLDAYEVENT:FALSE
SUMMARY:Clint Eastwood Film Festival: Joe Kidd (1972)
DESCRIPTION:Stop by the GARDEN for the Clint Eastwood Film Festival January 3rd   February 6th sponsored by the Greenfield Moose Lodge #997 and Liberty Tax Service.\n\nJoe Kidd (1977)\n\nA band of Mexicans find their U. S. land claims denied and all the records destroyed in a courthouse fire. Their leader\, Louis Chama\, encourages them to use force to regain their land. A wealthy landowner wanting the same decides to hire a gang of killers with Joe Kidd to track Chama.\n\nCAST: Clint Eastwood\, Robert Duvall\, John Saxon\, Don Stroud\, Stella Garcia\, James Wainwright\n\nDIRECTOR: John Sturges\n\nRUN TIME: 88 min
X-ALT-DESC;FMTTYPE=text/html:<p style="box-sizing: border-box\; margin: 0px 0px 1.2em\; color: rgb(0\, 0\, 0)\; font-family: josefin-sans\, sans-serif\; font-size: 20px\;"><span style="font-size:16px\;">Stop by the GARDEN for the Clint Eastwood Film Festival January 3rd &ndash\; February 6th sponsored by the Greenfield Moose Lodge #997 and Liberty Tax Service.</span></p>\n\n<p style="box-sizing: border-box\; margin: 0px 0px 1.2em\; color: rgb(0\, 0\, 0)\; font-family: josefin-sans\, sans-serif\; font-size: 20px\;"><span style="font-size:16px\;">Joe Kidd (1977)</span></p>\n\n<p style="box-sizing: border-box\; margin: 0px 0px 1.2em\; color: rgb(0\, 0\, 0)\; font-family: josefin-sans\, sans-serif\; font-size: 20px\;"><span style="font-size:16px\;">A band of Mexicans find their U. S. land claims denied and all the records destroyed in a courthouse fire. Their leader\, Louis Chama\, encourages them to use force to regain their land. A wealthy landowner wanting the same decides to hire a gang of killers with Joe Kidd to track Chama.</span></p>\n\n<p style="box-sizing: border-box\; margin: 0px 0px 1.2em\; color: rgb(0\, 0\, 0)\; font-family: josefin-sans\, sans-serif\; font-size: 20px\;"><span style="font-size:16px\;">CAST: Clint Eastwood\, Robert Duvall\, John Saxon\, Don Stroud\, Stella Garcia\, James Wainwright</span></p>\n\n<p style="box-sizing: border-box\; margin: 0px 0px 1.2em\; color: rgb(0\, 0\, 0)\; font-family: josefin-sans\, sans-serif\; font-size: 20px\;"><span style="font-size:16px\;">DIRECTOR: John Sturges</span></p>\n\n<p style="box-sizing: border-box\; margin: 0px 0px 1.2em\; color: rgb(0\, 0\, 0)\; font-family: josefin-sans\, sans-serif\; font-size: 20px\;"><span style="font-size:16px\;">RUN TIME: 88 min</span></p>\n
LOCATION:Greenfield Garden Cinemas 361 Main Street\, Greenfield
UID:e.2182.24139
SEQUENCE:3
DTSTAMP:20260424T001744Z
URL:https://chamber.franklincc.org/events/details/clint-eastwood-film-festival-joe-kidd-1972-24139
END:VEVENT

END:VCALENDAR
