BEGIN:VCALENDAR
VERSION:2.0
PRODID:-//ChamberMaster//Event Calendar 2.0//EN
METHOD:PUBLISH
X-PUBLISHED-TTL:P3D
REFRESH-INTERVAL:P3D
CALSCALE:GREGORIAN
BEGIN:VEVENT
DTSTART:20250104T020000Z
DTEND:20250104T040000Z
X-MICROSOFT-CDO-ALLDAYEVENT:FALSE
SUMMARY:Clint Eastwood Film Festival: Blood Work (2002)
DESCRIPTION:Stop by the GARDEN for the Clint Eastwood Film Festival January 3rd   February 6th sponsored by the Greenfield Moose Lodge #997 and Liberty Tax Service.\n\nBlood Work\n\nStill recovering from a heart transplant\, a retired FBI profiler returns to service when his own blood analysis offers clues to the identity of a serial killer.\n\nCAST: Clint Eastwood\, Jeff Daniels\, Anjelica Huston\, Wanda De Jesus\, Tina Lifford\, Paul Rodr guez\n\nDIRECTOR: Clint Eastwood\n\nRUN TIME: 110 min
X-ALT-DESC;FMTTYPE=text/html:<p style="box-sizing: border-box\; margin: 0px 0px 1.2em\; color: rgb(0\, 0\, 0)\; font-family: josefin-sans\, sans-serif\; font-size: 20px\;"><span style="font-size:14px\;">Stop by the GARDEN for the Clint Eastwood Film Festival January 3rd &ndash\; February 6th sponsored by the Greenfield Moose Lodge #997 and Liberty Tax Service.</span></p>\n\n<p style="box-sizing: border-box\; margin: 0px 0px 1.2em\; color: rgb(0\, 0\, 0)\; font-family: josefin-sans\, sans-serif\; font-size: 20px\;"><span style="font-size:14px\;">Blood Work</span></p>\n\n<p style="box-sizing: border-box\; margin: 0px 0px 1.2em\; color: rgb(0\, 0\, 0)\; font-family: josefin-sans\, sans-serif\; font-size: 20px\;"><span style="font-size:14px\;">Still recovering from a heart transplant\, a retired FBI profiler returns to service when his own blood analysis offers clues to the identity of a serial killer.</span></p>\n\n<p style="box-sizing: border-box\; margin: 0px 0px 1.2em\; color: rgb(0\, 0\, 0)\; font-family: josefin-sans\, sans-serif\; font-size: 20px\;"><span style="font-size:14px\;">CAST: Clint Eastwood\, Jeff Daniels\, Anjelica Huston\, Wanda De Jesus\, Tina Lifford\, Paul Rodr&iacute\;guez</span></p>\n\n<p style="box-sizing: border-box\; margin: 0px 0px 1.2em\; color: rgb(0\, 0\, 0)\; font-family: josefin-sans\, sans-serif\; font-size: 20px\;"><span style="font-size:14px\;">DIRECTOR: Clint Eastwood</span></p>\n\n<p style="box-sizing: border-box\; margin: 0px 0px 1.2em\; color: rgb(0\, 0\, 0)\; font-family: josefin-sans\, sans-serif\; font-size: 20px\;"><span style="font-size:14px\;">RUN TIME: 110 min</span></p>\n
LOCATION:Greenfield Garden Cinemas 361 Main Street\, Greenfield
UID:e.2182.24141
SEQUENCE:3
DTSTAMP:20260424T001746Z
URL:https://chamber.franklincc.org/events/details/clint-eastwood-film-festival-blood-work-2002-24141
END:VEVENT

END:VCALENDAR
