BEGIN:VCALENDAR
VERSION:2.0
PRODID:-//ChamberMaster//Event Calendar 2.0//EN
METHOD:PUBLISH
X-PUBLISHED-TTL:P3D
REFRESH-INTERVAL:P3D
CALSCALE:GREGORIAN
BEGIN:VEVENT
DTSTART:20230611T133000Z
DTEND:20230611T190000Z
X-MICROSOFT-CDO-ALLDAYEVENT:FALSE
SUMMARY:CISA:The Hub of Local Food Bike
DESCRIPTION:This bike tour is a relatively flat 28 mile loop through the Valley's rich farmland at the start of summer harvest. Along the route we'll visit an apiary\, taste incredible local products and hear directly from food producers about the area's unique farmland and culture around food. With two guides and a support vehicle\, we will wind our way toward an outstanding vineyard for a tour and wine tasting paired with a picnic lunch of local specialties. \n\nMileage: 28.6 mi\n\nTerrain: flat\, paved roads\n\nLevel: Easy\n\nPrice: $110 per person
X-ALT-DESC;FMTTYPE=text/html:<p>This bike tour is a relatively flat 28 mile loop through the Valley&#39\;s rich farmland at the start of summer harvest. Along the route we&#39\;ll visit an apiary\, taste incredible local products and hear directly from food producers about the area&#39\;s unique farmland and culture around food. With two guides and a support vehicle\, we will wind our way toward an outstanding vineyard for a tour and wine tasting paired with a picnic lunch of local specialties.&nbsp\;</p>\n\n<p>Mileage: 28.6 mi<br />\nTerrain: flat\, paved roads<br />\nLevel: Easy<br />\nPrice: $110 per person</p>\n
LOCATION:Tour begins in Hatfield and completes a loop through Whately\, South Deerfield and back to Hatfield.
UID:e.2182.19732
SEQUENCE:3
DTSTAMP:20260425T015246Z
URL:https://chamber.franklincc.org/events/details/cisa-the-hub-of-local-food-bike-19732
END:VEVENT

END:VCALENDAR
