BEGIN:VCALENDAR
VERSION:2.0
PRODID:-//ChamberMaster//Event Calendar 2.0//EN
METHOD:PUBLISH
X-PUBLISHED-TTL:P3D
REFRESH-INTERVAL:P3D
CALSCALE:GREGORIAN
BEGIN:VEVENT
DTSTART:20230520T113000Z
DTEND:20230520T180000Z
X-MICROSOFT-CDO-ALLDAYEVENT:FALSE
SUMMARY:CHD- MaryAnne's Kids Fun Charity Volleyball Tournament
DESCRIPTION:Play Volleyball\, Create Happy Experiences for Foster Kids! Proceeds raised through this event will benefit the MaryAnne's Kids Fund at CHD\, a resource that helps kids and teens in our care pursue their interests and prepare for important life events.
X-ALT-DESC;FMTTYPE=text/html:Play Volleyball\, Create Happy Experiences for Foster Kids! Proceeds raised through this event will benefit the MaryAnne&rsquo\;s Kids Fund at CHD\, a resource that helps kids and teens in our care pursue their interests and prepare for important life events.
LOCATION:Scantic Valley Branch YMCA 45 Post Office Park Wilbraham\, MA 01095
UID:e.2182.19492
SEQUENCE:3
DTSTAMP:20260425T002545Z
URL:https://chamber.franklincc.org/events/details/chd-maryanne-s-kids-fun-charity-volleyball-tournament-19492
END:VEVENT

END:VCALENDAR
